Workbook

Sheet Fiche
A1: Fiche technique
A2: Nom | B2: CAVIAR D'AUBERGINE
A3: Code | B3: GRO_CDC_001
A4: Classe | B4: Entrées froides collectivité (GRO.ENT.FR)
A5: Statut | B5: publie
A6: Verrouillée | B6: Oui — Corpus CDC (Cuisine de Collectivité) — sous-ensemble audité sans anomalie détectée, Chapitre 5. Second audit complet prévu avant verrouillage définitif du corpus entier. Réinjecté Chapitre 14 (30/08/2026) depuis MD nettoyé.
A7: Source bibliographique | B7: La Cuisine de Collectivité (BPI.CDC)
A8: Provenance
A10: Quantité de référence | B10: 100 pc
A11: Coût de revient (qt de référence) | B11: 57.18775
A12: Coût unitaire | B12: 0.5718775
A14: Quantité demandée pour cet export | B14: 100 pc
A15: Coût de revient total pour cette quantité | B15: 57.18775
A17: Export généré le | B17: 24/09/2026 16:52
B18: CUIS.web — Portage du CUIS Clipper de 1992 par Palika & Bernard Vandendaele (créateur du moteur récursif d'origine)

Sheet Besoins
A1: Besoins matière
A2: Multiplicateur souhaité | B2: 1
A3: Quantité de référence | B3: 100 | C3: pc
A4: Quantité obtenue | B4: =$B$2*B3 -> 100 | C4: =C3 -> pc
A6: Code | B6: Matière première | C6: Classe | D6: Base (×1, modifiable) | E6: Quantité | F6: Unité | G6: Coût
A7: EPI-POIVRE-NOIR | B7: Poivre noir moulu | C7: Épices en poudre et graines | D7: 0.012 | E7: =D7*$B$2 -> 0.012 | F7: kg | G7: =E7*12.5 -> 0.15
A8: RNME101403 | B8: Huile olive vierge extra bidon 5L | C8: Assaisonnements et corps gras | D8: 0.1 | E8: =D8*$B$2 -> 0.1 | F8: u | G8: =E8*65.22 -> 6.522
A9: RNM17710123 | B9: AIL frais France cat.I 60-80mm | C9: Légumes | D9: 0.4 | E9: =D9*$B$2 -> 0.4 | F9: kg | G9: =E9*6.5 -> 2.6
A10: RNM26040123 | B10: AUBERGINE France cat.I | C10: Légumes | D10: 10 | E10: =D10*$B$2 -> 10 | F10: kg | G10: =E10*3.3 -> 33
A11: RNM6520160 | B11: PERSIL simple France botte | C11: Légumes | D11: 0.2 | E11: =D11*$B$2 -> 0.2 | F11: bte | G11: =E11*4.5 -> 0.9
A12: SEL-FIN | B12: Sel fin de cuisine | C12: Sels et condiments de base | D12: 0.045 | E12: =D12*$B$2 -> 0.045 | F12: kg | G12: =E12*0.35 -> 0.01575
A13: PAIN-CAMPAGNE-TR | B13: Pain de campagne tranché (kg) | C13: Pains et bases précuits | D13: 4 | E13: =D13*$B$2 -> 4 | F13: kg | G13: =E13*3.5 -> 14
F14: Total | G14: =SUM(G7:G13) -> 0

Sheet Composition
A1: Niveau | B1: Composant | C1: Type | D1: Quantité (pour 100 pc) | E1: Unité | F1: Classe
A2: 0 | B2: CAVIAR D'AUBERGINE | C2: recette | D2: 100 | E2: pc | F2: Entrées froides collectivité
A3: 1 | B3: ↳ AUBERGINE France cat.I | C3: matiere | D3: 10 | E3: kg | F3: Légumes
A4: 1 | B4: ↳ AIL frais France cat.I 60-80mm | C4: matiere | D4: 0.4 | E4: kg | F4: Légumes
A5: 1 | B5: ↳ HUILE OLIVE (L) | C5: recette | D5: 0.5 | E5: lt | F5: Conversions diverses
A6: 2 | B6: ↳ Huile olive vierge extra bidon 5L | C6: matiere | D6: 0.1 | E6: u | F6: Assaisonnements et corps gras
A7: 1 | B7: ↳ Sel fin de cuisine | C7: matiere | D7: 0.045 | E7: kg | F7: Sels et condiments de base
A8: 1 | B8: ↳ Poivre noir moulu | C8: matiere | D8: 0.012 | E8: kg | F8: Épices en poudre et graines
A9: 1 | B9: ↳ PERSIL simple France botte | C9: matiere | D9: 0.2 | E9: kg | F9: Légumes
A10: 1 | B10: ↳ Pain de campagne tranché (kg) | C10: matiere | D10: 4 | E10: kg | F10: Pains et bases précuits

Sheet Procedure
A1: Recette | B1: # | C1: Verbe | D1: Étape | E1: Précision technique | F1: Durée
A2: CAVIAR D'AUBERGINE | B2: 1 | D2: Contrôler les D.L.C., peser les denrées, sélectionner le matériel. Laver et désinfecter le matériel et le poste de travail.
A3: CAVIAR D'AUBERGINE | B3: 2 | D3: Trancher le pain et disposer les tranches sur des grilles GN 1/1 de cuisson. Badigeonner les tranches avec 25 cL d'huile d'olive (sur les 500 ml de la recette). Au four à +170°C, toaster les tranches de pain. Réserver. | E3: Four +170°C
A4: CAVIAR D'AUBERGINE | B4: 3 | D4: Éplucher, laver et désinfecter les végétaux. Couper les aubergines en cubes. Réserver dans 1 bac GN 2/1 H 250 en polycarbonate. Au mixeur, réduire en purée l'ail. Réserver au froid. Hacher le persil grossièrement ou l'effeuiller. Réserver au froid.
A5: CAVIAR D'AUBERGINE | B5: 4 | D5: En sauteuse, à l'huile, compoter sans coloration à couvert les cubes d'aubergines pendant 30 minutes. Contrôler la cuisson : la chair de l'aubergine doit être molle. Refroidir en cellule de refroidissement. Dans la cuve du batteur, malaxer la chair d'aubergine, l'ail, le sel, le poivre et 25 cL d'huile d'olive pour obtenir une purée. On peut parfumer le caviar d'aubergines avec de l'huile de sésame. | F5: 30 min (cuisson)
A6: CAVIAR D'AUBERGINE | B6: 5 | D6: Réserver dans 2 bacs GN 1/1 H 100, filmer et stocker au froid.
A7: CAVIAR D'AUBERGINE | B7: 6 | D7: Servir bien frais. Variante : ajouter des herbes fraîches pour plus de fraîcheur.

Sheet Carte imprimable
A1: Fiche technique — CAVIAR D'AUBERGINE
A2: ="GRO_CDC_001 · GRO.ENT.FR · référence : "&Besoins!B3&" "&Besoins!C3&" · multiplicateur réglable sur la feuille ""Besoins""" -> GRO_CDC_001 · GRO.ENT.FR · référence : 100 pc · multiplicateur réglable sur la feuille
A4: CAVIAR D'AUBERGINE GRO_CDC_001
A5: 1. | B5: =Procedure!D2 -> Contrôler les D.L.C., peser les denrées, sélectionner le matériel. Laver et désinfecter le matériel et le poste de travail.
A6: 2. | B6: =Procedure!D3 -> Trancher le pain et disposer les tranches sur des grilles GN 1/1 de cuisson. Badigeonner les tranches avec 25 cL d'huile d'olive (sur les 500 ml de la recette). Au four à +170°C, toaster les tranches de pain. Réserver.
B7: =Besoins!B10 -> AUBERGINE France cat.I | C7: =Besoins!E10 -> 10 | D7: =Besoins!F10 -> kg
B8: =Besoins!B9 -> AIL frais France cat.I 60-80mm | C8: =Besoins!E9 -> 0.4 | D8: =Besoins!F9 -> kg
B9: HUILE OLIVE (L) (conv.) | C9: ='Besoins'!$B$2*0.5 -> 0.5 | D9: lt
B10: =Besoins!B12 -> Sel fin de cuisine | C10: =Besoins!E12 -> 0.045 | D10: =Besoins!F12 -> kg
B11: =Besoins!B7 -> Poivre noir moulu | C11: =Besoins!E7 -> 0.012 | D11: =Besoins!F7 -> kg
B12: =Besoins!B11 -> PERSIL simple France botte | C12: =Besoins!E11 -> 0.2 | D12: =Besoins!F11 -> kg
B13: =Besoins!B13 -> Pain de campagne tranché (kg) | C13: =Besoins!E13 -> 4 | D13: =Besoins!F13 -> kg
B14: ="ℹ "&Procedure!E3 -> ℹ
A15: 3. | B15: =Procedure!D4 -> Éplucher, laver et désinfecter les végétaux. Couper les aubergines en cubes. Réserver dans 1 bac GN 2/1 H 250 en polycarbonate. Au mixeur, réduire en purée l'ail. Réserver au froid. Hacher le persil grossièrement ou l'effeuiller. Réserver au froid.
A16: 4. | B16: =Procedure!D5 -> En sauteuse, à l'huile, compoter sans coloration à couvert les cubes d'aubergines pendant 30 minutes. Contrôler la cuisson : la chair de l'aubergine doit être molle. Refroidir en cellule de refroidissement. Dans la cuve du batteur, malaxer la chair d'aubergine, l'ail, le sel, le poivre et 25 cL d'huile d'olive pour obtenir une purée. On peut parfumer le caviar d'aubergines avec de l'huile de sésame.
A17: 5. | B17: =Procedure!D6 -> Réserver dans 2 bacs GN 1/1 H 100, filmer et stocker au froid.
A18: 6. | B18: =Procedure!D7 -> Servir bien frais. Variante : ajouter des herbes fraîches pour plus de fraîcheur.
B19: =Besoins!B10 -> AUBERGINE France cat.I | C19: =Besoins!E10 -> 10 | D19: =Besoins!F10 -> kg
B20: =Besoins!B9 -> AIL frais France cat.I 60-80mm | C20: =Besoins!E9 -> 0.4 | D20: =Besoins!F9 -> kg
B21: HUILE OLIVE (L) (conv.) | C21: ='Besoins'!$B$2*0.5 -> 0.5 | D21: lt
B22: =Besoins!B12 -> Sel fin de cuisine | C22: =Besoins!E12 -> 0.045 | D22: =Besoins!F12 -> kg
B23: =Besoins!B7 -> Poivre noir moulu | C23: =Besoins!E7 -> 0.012 | D23: =Besoins!F7 -> kg
B24: =Besoins!B11 -> PERSIL simple France botte | C24: =Besoins!E11 -> 0.2 | D24: =Besoins!F11 -> kg
B25: =Besoins!B13 -> Pain de campagne tranché (kg) | C25: =Besoins!E13 -> 4 | D25: =Besoins!F13 -> kg
A27: CUIS.web — Portage du CUIS Clipper de 1992 par Palika & Bernard Vandendaele (créateur du moteur récursif d'origine)
