Workbook

Sheet Fiche
A1: Fiche technique
A2: Nom | B2: Brochettes de volaille tandoori
A3: Code | B3: VO_BROC_VOLA_TAN
A4: Classe | B4: Plats volailles (CUI.PLATS_VOLAILLES)
A5: Statut | B5: publie
A6: Verrouillée | B6: Oui — Corpus CDR (Cuisine de Référence 1993) audité et corrigé — verrouillé Chapitre 5
A7: Source bibliographique | B7: La Cuisine de Référence (BPI.CDR)
A8: Provenance
A10: Quantité de référence | B10: 1 pc
A11: Coût de revient (qt de référence) | B11: 21.426857
A12: Coût unitaire | B12: 21.426857
A14: Quantité demandée pour cet export | B14: 1 pc
A15: Coût de revient total pour cette quantité | B15: 21.426857
A17: Export généré le | B17: 23/09/2026 21:47
B18: CUIS.web — Portage du CUIS Clipper de 1992 par Palika & Bernard Vandendaele (créateur du moteur récursif d'origine)

Sheet Besoins
A1: Besoins matière
A2: Multiplicateur souhaité | B2: 1
A3: Quantité de référence | B3: 1 | C3: pc
A4: Quantité obtenue | B4: =$B$2*B3 -> 1 | C4: =C3 -> pc
A6: Code | B6: Matière première | C6: Classe | D6: Base (×1, modifiable) | E6: Quantité | F6: Unité | G6: Coût
A7: 00000826 | B7: CLOUS DE GIROFLES | C7: Eléments divers | D7: 2 | E7: =D7*$B$2 -> 2 | F7: kg | G7: =E7*0 -> 0
A8: 00000139 | B8: FARINE (000) | C8: Eléments divers | D8: 0.06 | E8: =D8*$B$2 -> 0.06 | F8: kg | G8: =E8*0.489836 -> 0.02939
A9: 00000048 | B9: BEURRE | C9: Produits frais | D9: 0.08 | E9: =D9*$B$2 -> 0.08 | F9: kg | G9: =E9*3.9514 -> 0.316112
A10: 00000224 | B10: CITRON | C10: FRUIT FRAIS | D10: 0.05 | E10: =D10*$B$2 -> 0.05 | F10: kg | G10: =E10*1.09074 -> 0.054537
A11: 00000047 | B11: OEUF A3 (PRIX) | C11: Produits laitiers | D11: 3.636364 | E11: =D11*$B$2 -> 3.636364 | F11: pc | G11: =E11*0.269999973 -> 0.981818
A12: 00001922 | B12: bouquet garni arôme | C12: Condiments et sauces | D12: 1 | E12: =D12*$B$2 -> 1 | F12: pc | G12: =E12*0 -> 0
A13: 00001757 | B13: champignons émincés | C13: Épicerie salée | D13: 0.25 | E13: =D13*$B$2 -> 0.25 | F13: 5 | G13: =E13*0 -> 0
A14: CRE-LIQUIDE-35 | B14: Crème liquide entière 35% MG UHT | C14: Crèmes fraîches et laitières | D14: 0.3 | E14: =D14*$B$2 -> 0.3 | F14: lt | G14: =E14*2.85 -> 0.855
A15: 00002238 | B15: carottes râpées | C15: Légumes 4ème gamme (prêts emploi) | D15: 0.2 | E15: =D15*$B$2 -> 0.2 | F15: kg | G15: =E15*0 -> 0
A16: RNM0370123 | B16: CÉLERI-RAVE France | C16: Légumes | D16: 0.1 | E16: =D16*$B$2 -> 0.1 | F16: kg | G16: =E16*1.1 -> 0.11
A17: 00002049 | B17: oignons émincés | C17: Légumes | D17: 0.12 | E17: =D17*$B$2 -> 0.12 | F17: pc | G17: =E17*0 -> 0
A18: RNMS00331 | B18: Poulet PAC sans abat France | C18: Volailles et lapins surgelés | D18: 2.4 | E18: =D18*$B$2 -> 2.4 | F18: kg | G18: =E18*7.95 -> 19.08
F19: Total | G19: =SUM(G7:G18) -> 0

Sheet Composition
A1: Niveau | B1: Composant | C1: Type | D1: Quantité (pour 1 pc) | E1: Unité | F1: Classe
A2: 0 | B2: Brochettes de volaille tandoori | C2: recette | D2: 1 | E2: pc | F2: Plats volailles
A3: 1 | B3: ↳ Poulet PAC sans abat France | C3: matiere | D3: 2.4 | E3: kg | F3: Volailles et lapins surgelés
A4: 1 | B4: ↳ BEURRE | C4: matiere | D4: 0.08 | E4: kg | F4: Produits frais
A5: 1 | B5: ↳ FARINE (000) | C5: matiere | D5: 0.06 | E5: kg | F5: Eléments divers
A6: 1 | B6: ↳ oignons émincés | C6: matiere | D6: 0.12 | E6: kg | F6: Légumes
A7: 1 | B7: ↳ carottes râpées | C7: matiere | D7: 0.2 | E7: kg | F7: Légumes 4ème gamme (prêts emploi)
A8: 1 | B8: ↳ OEUF (ml) | C8: recette | D8: 0.2 | E8: kg | F8: Conversions oeufs et ovoproduits
A9: 2 | B9: ↳ OEUF A3 (PRIX) | C9: matiere | D9: 3.636 | E9: pc | F9: Produits laitiers
A10: 1 | B10: ↳ CÉLERI-RAVE France | C10: matiere | D10: 0.1 | E10: kg | F10: Légumes
A11: 1 | B11: ↳ bouquet garni arôme | C11: matiere | D11: 1 | E11: pc | F11: Condiments et sauces
A12: 1 | B12: ↳ CLOUS DE GIROFLES | C12: matiere | D12: 2 | E12: pc | F12: Eléments divers
A13: 1 | B13: ↳ Crème liquide entière 35% MG UHT | C13: matiere | D13: 0.3 | E13: lt | F13: Crèmes fraîches et laitières
... A15: 1 | B15: ↳ CITRON | C15: matiere | D15: 0.05 | E15: kg | F15: FRUIT FRAIS

Sheet Procedure
A1: Recette | B1: # | C1: Verbe | D1: Étape | E1: Précision technique | F1: Durée
A2: Brochettes de volaille tandoori | B2: 1 | C2: METTRE EN PLACE | D2: Mettre en place le poste de travail - 5 min  Denrées, matériels de préparation, de cuisson et de dressage. | F2: 5 min (cuisson)
A3: Brochettes de volaille tandoori | B3: 2 | C3: HABILLER | D3: Habiller et découper les poulets - 30 min (voir p. 237/240 et 246/248) Etirer, flamber et éliminer le reste des duvets. Parer, vider et découper à cru chaque poulet en 4 morceaux, éven­tuellement en 8. Réserver les morceaux de poulet en enceinte réfrigérée. | F3: 30 min (repos)
A4: Brochettes de volaille tandoori | B4: 3 | C4: MARQUER | D4: Marquer le fond blanc de volaille - 10 min Concasser les carcasses et les abattis, puis les blanchir éventuellement. Les placer dans une russe et mouiller à hauteur avec de l'eau froide. Porter à ébullition, écumer soigneusement, puis ajouter la garniture aromatique. Laisser cuire le fond blanc à très faible ébullition durant 30 à 45 min. | F4: 28 min (cuisson)
A5: Brochettes de volaille tandoori | B5: 4 | C5: PRÉPARER | D5: Préparer la garniture - 10 min Eplucher, laver et escaloper les champignons, les cuire à couvert dans une petite quantité d'eau bouillante salée et citronnée, avec un peu de beurre (voir p. 66/68 et 390). Les réserver dans leur cuisson, ne pas les égoutter. Eplucher, laver et cuire les petits oignons par glaçage à blanc. | F5: 10 min (cuisson)
A6: Brochettes de volaille tandoori | B6: 5 | C6: MARQUER | D6: Marquer la fricassée en cuisson - 15 min Saler et poivrer les morceaux de poulet. Les faire raidir dans un sautoir avec un peu de beurre, côté peau en premier. Retourner les morceaux, puis les laisser raidir à nouveau sur l'autre côté en veillant à ne pas les laisser colorer. Débarrasser les morceaux, puis ajouter dans le sautoir 0,120 kg d'oi­gnons finement ciselés. Les suer légèrement sans coloration. Singer (ajouter la farine) et cuire doucement le roux blanc pendant quelques minutes (rajouter un peu de beurre si nécessaire). Mouiller avec 1 l de fond blanc et replacer les morceaux de poulet dans le velouté, le côté peau en dessous. Laisser cuire très lentement la fricassée de volaille à couvert durant 20 min environ. Retourner les morceaux aux 2/3 de la cuisson. Vérifier que la sauce nattache pas au récipient. | F6: 18 min (cuisson)

Sheet Carte imprimable
A1: Fiche technique — Brochettes de volaille tandoori
A2: ="VO_BROC_VOLA_TAN · CUI.PLATS_VOLAILLES · référence : "&Besoins!B3&" "&Besoins!C3&" · multiplicateur réglable sur la feuille ""Besoins""" -> VO_BROC_VOLA_TAN · CUI.PLATS_VOLAILLES · référence : 1 pc · multiplicateur réglable sur la feuille
A4: Brochettes de volaille tandoori VO_BROC_VOLA_TAN
A5: 1. | B5: ="[METTRE EN PLACE] "&Procedure!D2 -> [METTRE EN PLACE] Mettre en place le poste de travail - 5 min  Denrées, matériels de préparation, de cuisson et de dressage.
A6: 2. | B6: ="[HABILLER] "&Procedure!D3 -> [HABILLER] Habiller et découper les poulets - 30 min (voir p. 237/240 et 246/248) Etirer, flamber et éliminer le reste des duvets. Parer, vider et découper à cru chaque poulet en 4 morceaux, éven­tuellement en 8. Réserver les morceaux de poulet en enceinte réfrigérée.
B7: =Besoins!B18 -> Poulet PAC sans abat France | C7: =Besoins!E18 -> 2.4 | D7: =Besoins!F18 -> kg
B8: =Besoins!B15 -> carottes râpées | C8: =Besoins!E15 -> 0.2 | D8: =Besoins!F15 -> kg
B9: OEUF (ml) (conv.) | C9: ='Besoins'!$B$2*0.2 -> 0.2 | D9: kg
B10: =Besoins!B16 -> CÉLERI-RAVE France | C10: =Besoins!E16 -> 0.1 | D10: =Besoins!F16 -> kg
B11: =Besoins!B7 -> CLOUS DE GIROFLES | C11: =Besoins!E7 -> 2 | D11: =Besoins!F7 -> pc
B12: =Besoins!B14 -> Crème liquide entière 35% MG UHT | C12: =Besoins!E14 -> 0.3 | D12: =Besoins!F14 -> lt
A13: 3. | B13: ="[MARQUER] "&Procedure!D4 -> [MARQUER] Marquer le fond blanc de volaille - 10 min Concasser les carcasses et les abattis, puis les blanchir éventuellement. Les placer dans une russe et mouiller à hauteur avec de l'eau froide. Porter à ébullition, écumer soigneusement, puis ajouter la garniture aromatique. Laisser cuire le fond blanc à très faible ébullition durant 30 à 45 min.
B14: =Besoins!B12 -> bouquet garni arôme | C14: =Besoins!E12 -> 1 | D14: =Besoins!F12 -> pc
A15: 4. | B15: ="[PRÉPARER] "&Procedure!D5 -> [PRÉPARER] Préparer la garniture - 10 min Eplucher, laver et escaloper les champignons, les cuire à couvert dans une petite quantité d'eau bouillante salée et citronnée, avec un peu de beurre (voir p. 66/68 et 390). Les réserver dans leur cuisson, ne pas les égoutter. Eplucher, laver et cuire les petits oignons par glaçage à blanc.
B16: =Besoins!B9 -> BEURRE | C16: =Besoins!E9 -> 0.08 | D16: =Besoins!F9 -> kg
B17: =Besoins!B17 -> oignons émincés | C17: =Besoins!E17 -> 0.12 | D17: =Besoins!F17 -> kg
B18: =Besoins!B13 -> champignons émincés | C18: =Besoins!E13 -> 0.25 | D18: =Besoins!F13 -> kg
B19: =Besoins!B10 -> CITRON | C19: =Besoins!E10 -> 0.05 | D19: =Besoins!F10 -> kg
A20: 5. | B20: ="[MARQUER] "&Procedure!D6 -> [MARQUER] Marquer la fricassée en cuisson - 15 min Saler et poivrer les morceaux de poulet. Les faire raidir dans un sautoir avec un peu de beurre, côté peau en premier. Retourner les morceaux, puis les laisser raidir à nouveau sur l'autre côté en veillant à ne pas les laisser colorer. Débarrasser les morceaux, puis ajouter dans le sautoir 0,120 kg d'oi­gnons finement ciselés. Les suer légèrement sans coloration. Singer (ajouter la farine) et cuire doucement le roux blanc pendant quelques minutes (rajouter un peu de beurre si nécessaire). Mouiller avec 1 l de fond blanc et replacer les morceaux de poulet dans le velouté, le côté peau en dessous. Laisser cuire très lentement la fricassée de volaille à couvert durant 20 min environ. Retourner les morceaux aux 2/3 de la cuisson. Vérifier que la sauce nattache pas au récipient.
B21: =Besoins!B8 -> FARINE (000) | C21: =Besoins!E8 -> 0.06 | D21: =Besoins!F8 -> kg
A23: CUIS.web — Portage du CUIS Clipper de 1992 par Palika & Bernard Vandendaele (créateur du moteur récursif d'origine)
