Workbook

Sheet Fiche
A1: Fiche technique
A2: Nom | B2: PAËLLA VALENCIENNE (TERRE)
A3: Code | B3: GRO_CDC_151B
A4: Classe | B4: Plats complets collectivité (GRO.COMPLETS)
A5: Statut | B5: publie
A6: Verrouillée | B6: Non
A7: Source bibliographique
A8: Provenance
A10: Quantité de référence | B10: 100 pc
A11: Coût de revient H.T. (qt de référence) | B11: 216.28344
A12: Coût unitaire H.T. | B12: 2.1628344
A14: Quantité demandée pour cet export | B14: 100 pc
A15: Coût de revient total H.T. pour cette quantité | B15: 216.28344
A17: Export généré le | B17: 27/09/2026 17:32
B18: CUIS.web — Portage du CUIS Clipper de 1992 par Palika & Bernard Vandendaele (créateur du moteur récursif d'origine)

Sheet Besoins
A1: Besoins matière
A2: Multiplicateur souhaité | B2: 1
A3: Quantité de référence | B3: 100 | C3: pc
A4: Quantité obtenue | B4: =$B$2*B3 -> 100 | C4: =C3 -> pc
A6: Code | B6: Matière première | C6: Classe | D6: Base (×1, modifiable) | E6: Quantité | F6: Unité | G6: Coût H.T.
A7: EAU | B7: Eau (robinet - moy. France 2026) | C7: Matières premières | D7: 19.6 | E7: =D7*$B$2 -> 19.6 | F7: lt | G7: =E7*0.0043 -> 0.08428
A8: CHORIZO-HAL | B8: Chorizo bœuf et volaille halal tranché | C8: Charcuterie | D8: 5 | E8: =D8*$B$2 -> 5 | F8: kg | G8: =E8*9.5 -> 47.5
A9: EPI-PAELLA | B9: Épices paëlla (type Spigol / Rizdor) | C9: Épices en poudre et graines | D9: 0.016 | E9: =D9*$B$2 -> 0.016 | F9: kg | G9: =E9*43.5071 -> 0.696114
A10: EPI-POIVRE-NOIR | B10: Poivre noir moulu | C10: Épices en poudre et graines | D10: 0.007 | E10: =D10*$B$2 -> 0.007 | F10: kg | G10: =E10*12.5 -> 0.0875
A11: RNME101403 | B11: Huile olive vierge extra bidon 5L | C11: Assaisonnements et corps gras | D11: 0.4 | E11: =D11*$B$2 -> 0.4 | F11: u | G11: =E11*65.22 -> 26.088
A12: RNME101453 | B12: Riz long indica étuvé sac 5kg | C12: Féculents et légumineuses | D12: 10 | E12: =D12*$B$2 -> 10 | F12: kg | G12: =E12*2.71 -> 27.1
A13: KNORR-BOUIL-VOL | B13: Bouillon de Volaille déshydraté (Knorr Professional) | C13: Fonds déshydratés et poudres | D13: 0.4 | E13: =D13*$B$2 -> 0.4 | F13: kg | G13: =E13*18.8 -> 7.52
A14: RNM57224806 | B14: MARGARINE 60% MG 100% végétale pain 500g | C14: Produits laitiers et œufs | D14: 1 | E14: =D14*$B$2 -> 1 | F14: kg | G14: =E14*3.5 -> 3.5
A15: RNM3770123 | B15: CITRON Espagne cat.I 4(58-67mm) | C15: Légumes | D15: 3 | E15: =D15*$B$2 -> 3 | F15: kg | G15: =E15*1.8 -> 5.4
A16: RNM9360123 | B16: TOMATE ronde Maroc cat.I 67-82mm | C16: Légumes | D16: 4 | E16: =D16*$B$2 -> 4 | F16: kg | G16: =E16*2.8 -> 11.2
A17: SEL-FIN | B17: Sel fin de cuisine | C17: Sels et condiments de base | D17: 0.073 | E17: =D17*$B$2 -> 0.073 | F17: kg | G17: =E17*0.35 -> 0.02555
A18: RNMS00812 | B18: Ail haché IQF | C18: Légumes surgelés | D18: 0.2 | E18: =D18*$B$2 -> 0.2 | F18: kg | G18: =E18*9.26 -> 1.852
A19: HARICOT-PLAT-ESP | B19: Haricots plats d'Espagne surgeles | C19: Légumes surgelés | D19: 2 | E19: =D19*$B$2 -> 2 | F19: kg | G19: =E19*3.5 -> 7
A20: RNMS00780 | B20: Oignons émincés surgelés | C20: Légumes surgelés | D20: 4 | E20: =D20*$B$2 -> 4 | F20: kg | G20: =E20*3.89 -> 15.56
A21: RNMS00764 | B21: Petits pois doux très fins surgelés | C21: Légumes surgelés | D21: 2 | E21: =D21*$B$2 -> 2 | F21: kg | G21: =E21*3.21 -> 6.42
A22: RNMS00866 | B22: Poivrons verts rouges en lanières surgelés | C22: Légumes surgelés | D22: 2.5 | E22: =D22*$B$2 -> 2.5 | F22: kg | G22: =E22*4.18 -> 10.45
A23: POULET-CUIS-HAL | B23: Cuisses de poulet halal surgelées | C23: Volailles et lapins surgelés | D23: 20 | E23: =D23*$B$2 -> 20 | F23: kg | G23: =E23*2.29 -> 45.8
F24: Total | G24: =SUM(G7:G23) -> 0

Sheet Composition
A1: Niveau | B1: Composant | C1: Type | D1: Quantité (pour 100 pc) | E1: Unité | F1: Classe
A2: 0 | B2: PAËLLA VALENCIENNE (TERRE) | C2: recette | D2: 100 | E2: pc | F2: Plats complets collectivité
A3: 1 | B3: ↳ PAËLLA — GARNITURE AROMATIQUE ET LÉGUMES | C3: recette | D3: 100 | E3: pc | F3: Préparations de base collectivité
A4: 2 | B4: ↳ Oignons émincés surgelés | C4: matiere | D4: 4 | E4: kg | F4: Légumes surgelés
A5: 2 | B5: ↳ Poivrons verts rouges en lanières surgelés | C5: matiere | D5: 2.5 | E5: kg | F5: Légumes surgelés
A6: 2 | B6: ↳ Haricots plats d'Espagne surgeles | C6: matiere | D6: 2 | E6: kg | F6: Légumes surgelés
A7: 2 | B7: ↳ Petits pois doux très fins surgelés | C7: matiere | D7: 2 | E7: kg | F7: Légumes surgelés
A8: 2 | B8: ↳ Ail haché IQF | C8: matiere | D8: 0.2 | E8: kg | F8: Légumes surgelés
A9: 2 | B9: ↳ TOMATE ronde Maroc cat.I 67-82mm | C9: matiere | D9: 4 | E9: kg | F9: Légumes
A10: 2 | B10: ↳ HUILE OLIVE (L) | C10: recette | D10: 2 | E10: lt | F10: Conversions diverses
A11: 3 | B11: ↳ Huile olive vierge extra bidon 5L | C11: matiere | D11: 0.4 | E11: u | F11: Assaisonnements et corps gras
A12: 2 | B12: ↳ Épices paëlla (type Spigol / Rizdor) | C12: matiere | D12: 0.016 | E12: kg | F12: Épices en poudre et graines
A13: 1 | B13: ↳ Cuisse de poulet halal (pièce) | C13: recette | D13: 100 | E13: pc | F13: Conversions volailles (piece/poids/rendement)
... A23: 1 | B23: ↳ Poivre noir moulu | C23: matiere | D23: 0.007 | E23: kg | F23: Épices en poudre et graines

Sheet Procedure
A1: Recette | B1: # | C1: Verbe | D1: Étape | E1: Précision technique | F1: Durée
A2: PAËLLA VALENCIENNE (TERRE) | B2: 1 | D2: Mise en place du poste de travail — Vérifier les D.L.C., peser les denrées, sélectionner le matériel nécessaire. Laver et désinfecter le matériel et le poste de travail en suivant les protocoles.
A3: PAËLLA VALENCIENNE (TERRE) | B3: 2 | D3: Préparations préliminaires — Déconditionner les poulets suivant la procédure. Couper les cuisses de poulet en deux au niveau de la jointure. Réserver dans un bac GN 2/1 H 250 muni d'une grille égouttoir. Couvrir et stocker au froid en attente d'utilisation. Laver et désinfecter les citrons. Couper en 8 quartiers les citrons. Réserver au froid dans une calotte filmée. Trancher en rondelles, le chorizo (s'il n'est pas acheté tranché). Réserver au froid en attente d'utilisation. Dans un rondeau, réaliser 20 litres de bouillon de volaille, à partir de fond déshydraté, en se reportant aux recommandations du fabricant. Maintenir au chaud en attente d'utilisation.
A4: PAËLLA VALENCIENNE (TERRE) | B4: 3 | D4: Faire revenir les morceaux de poulet — En sauteuse, à la margarine, faire revenir et colorer sur toutes les faces, les morceaux de poulet. Égoutter les morceaux de poulet dans 2 bacs GN 1/1 H 100 perforés, doublés d'un bac. Éliminer la graisse de cuisson et les particules carbonisées de la sauteuse. Dans la sauteuse, faire revenir la garniture aromatique (sous-recette « Paëlla — garniture aromatique et légumes »). Ajouter le riz, les haricots plats, les petits pois, l'ail haché, les épices et condiments, le chorizo et les morceaux de poulet. Remuer l'ensemble à l'aide d'une écumoire assez large, pour bien mélanger les éléments. Mouiller avec le bouillon de volaille. Porter à ébullition. Durant cette opération, écumer la surface de la paëlla, et en fin d'opération ajouter les quartiers de tomate. Couvrir et réduire la source de chaleur. Laisser cuire environ 35 à 40 minutes. Une variation du temps de cuisson peut intervenir en fonction de la qualité du riz. Vers la fin de cuisson, stopper la source de chaleur. La chaleur accumulée suffira pour finir la cuisson de la paëlla. Vérifier la cuisson. Respecter la procédure de fin de cuisson. Stocker en armoire chaude et maintenir à + 63 °C, en attente de consommation. Pour la cuisson de la paëlla au four : préchauffer le four sur la position chaleur mixte à + 170 °C. Lorsque tous les éléments sont mélangés dans la sauteuse, les répartir équitablement dans 8 bacs GN 1/1 H 100. Mouiller avec 2,5 L de bouillon de volaille. Couvrir. Étager les bacs sur l'échelle de four. Enfourner et cuire durant 45 minutes.
A5: PAËLLA VALENCIENNE (TERRE) | B5: 4 | D5: Dresser et servir — Servir la paëlla à l'assiette, accompagnée d'un quartier de citron. Prendre soin de servir 2 morceaux de poulet par portion. Des variations peuvent intervenir dans la composition de la paëlla, suivant le goût et les arrivages du moment susceptibles d'améliorer la paëlla. NB : pour faciliter le service, on peut cuire à part les morceaux de poulet. Traditionnellement le riz rond est utilisé pour la confection de la paëlla, mais les grains s'agglomèrent pendant la cuisson.
A6: PAËLLA — GARNITURE AROMATIQUE ET LÉGUMES | B6: 1 | D6: Préparations préliminaires — Déconditionner les produits surgelés suivant la procédure. Réserver au froid séparément les produits, dans des bacs GN 1/1 couverts. Laver et désinfecter les tomates. Retirer le pédoncule et couper les tomates en quartiers.
A7: PAËLLA — GARNITURE AROMATIQUE ET LÉGUMES | B7: 2 | D7: Faire revenir la garniture aromatique — Dans la sauteuse, faire revenir à l'huile les oignons émincés. Ajouter les lanières de poivrons. Laisser suer à couvert quelques instants les deux éléments. Les haricots plats, les petits pois, l'ail haché, les épices et les quartiers de tomate sont ajoutés avec le riz (voir la fiche de la paëlla).
A8: Bouillon de volaille reconstitue (collectivite) | B8: 1 | C8: DISSOUDRE | D8: Délayer la poudre dans l'eau froide en fouettant, puis porter à ébullition en remuant régulièrement.

Sheet Carte imprimable
A1: Fiche technique — PAËLLA VALENCIENNE (TERRE)
A2: ="GRO_CDC_151B · GRO.COMPLETS · référence : "&Besoins!B3&" "&Besoins!C3&" · multiplicateur réglable sur la feuille ""Besoins""" -> GRO_CDC_151B · GRO.COMPLETS · référence : 100 pc · multiplicateur réglable sur la feuille
A4: PAËLLA VALENCIENNE (TERRE) GRO_CDC_151B
A5: 1. | B5: =Procedure!D2 -> Mise en place du poste de travail — Vérifier les D.L.C., peser les denrées, sélectionner le matériel nécessaire. Laver et désinfecter le matériel et le poste de travail en suivant les protocoles.
A6: 2. | B6: =Procedure!D3 -> Préparations préliminaires — Déconditionner les poulets suivant la procédure. Couper les cuisses de poulet en deux au niveau de la jointure. Réserver dans un bac GN 2/1 H 250 muni d'une grille égouttoir. Couvrir et stocker au froid en attente d'utilisation. Laver et désinfecter les citrons. Couper en 8 quartiers les citrons. Réserver au froid dans une calotte filmée. Trancher en rondelles, le chorizo (s'il n'est pas acheté tranché). Réserver au froid en attente d'utilisation. Dans un rondeau, réaliser 20 litres de bouillon de volaille, à partir de fond déshydraté, en se reportant aux recommandations du fabricant. Maintenir au chaud en attente d'utilisation.
B7: Cuisse de poulet halal (pièce) (conv.) | C7: ='Besoins'!$B$2*100 -> 100 | D7: pc
B8: =Besoins!B15 -> CITRON Espagne cat.I 4(58-67mm) | C8: =Besoins!E15 -> 3 | D8: =Besoins!F15 -> kg
B9: =Besoins!B8 -> Chorizo bœuf et volaille halal tranché | C9: =Besoins!E8 -> 5 | D9: =Besoins!F8 -> kg
B10: Bouillon de volaille reconstitue (collectivite) | C10: ='Besoins'!$B$2*20 -> 20 | D10: lt
A11: 3. | B11: =Procedure!D4 -> Faire revenir les morceaux de poulet — En sauteuse, à la margarine, faire revenir et colorer sur toutes les faces, les morceaux de poulet. Égoutter les morceaux de poulet dans 2 bacs GN 1/1 H 100 perforés, doublés d'un bac. Éliminer la graisse de cuisson et les particules carbonisées de la sauteuse. Dans la sauteuse, faire revenir la garniture aromatique (sous-recette « Paëlla — garniture aromatique et légumes »). Ajouter le riz, les haricots plats, les petits pois, l'ail haché, les épices et condiments, le chorizo et les morceaux de poulet. Remuer l'ensemble à l'aide d'une écumoire assez large, pour bien mélanger les éléments. Mouiller avec le bouillon de volaille. Porter à ébullition. Durant cette opération, écumer la surface de la paëlla, et en fin d'opération ajouter les quartiers de tomate. Couvrir et réduire la source de chaleur. Laisser cuire environ 35 à 40 minutes. Une variation du temps de cuisson peut intervenir en fonction de la qualité du riz. Vers la fin de cuisson, stopper la source de chaleur. La chaleur accumulée suffira pour finir la cuisson de la paëlla. Vérifier la cuisson. Respecter la procédure de fin de cuisson. Stocker en armoire chaude et maintenir à + 63 °C, en attente de consommation. Pour la cuisson de la paëlla au four : préchauffer le four sur la position chaleur mixte à + 170 °C. Lorsque tous les éléments sont mélangés dans la sauteuse, les répartir équitablement dans 8 bacs GN 1/1 H 100. Mouiller avec 2,5 L de bouillon de volaille. Couvrir. Étager les bacs sur l'échelle de four. Enfourner et cuire durant 45 minutes.
B12: =Besoins!B14 -> MARGARINE 60% MG 100% végétale pain 500g | C12: =Besoins!E14 -> 1 | D12: =Besoins!F14 -> kg
B13: PAËLLA — GARNITURE AROMATIQUE ET LÉGUMES | C13: ='Besoins'!$B$2*100 -> 100 | D13: pc
B14: =Besoins!B12 -> Riz long indica étuvé sac 5kg | C14: =Besoins!E12 -> 10 | D14: =Besoins!F12 -> kg
B15: =Besoins!B17 -> Sel fin de cuisine | C15: =Besoins!E17 -> 0.073 | D15: =Besoins!F17 -> kg
B16: =Besoins!B10 -> Poivre noir moulu | C16: =Besoins!E10 -> 0.007 | D16: =Besoins!F10 -> kg
A17: 4. | B17: =Procedure!D5 -> Dresser et servir — Servir la paëlla à l'assiette, accompagnée d'un quartier de citron. Prendre soin de servir 2 morceaux de poulet par portion. Des variations peuvent intervenir dans la composition de la paëlla, suivant le goût et les arrivages du moment susceptibles d'améliorer la paëlla. NB : pour faciliter le service, on peut cuire à part les morceaux de poulet. Traditionnellement le riz rond est utilisé pour la confection de la paëlla, mais les grains s'agglomèrent pendant la cuisson.
A19: ↳ PAËLLA — GARNITURE AROMATIQUE ET LÉGUMES GRO-PAELLA-LEG
A20: 1. | B20: =Procedure!D6 -> Préparations préliminaires — Déconditionner les produits surgelés suivant la procédure. Réserver au froid séparément les produits, dans des bacs GN 1/1 couverts. Laver et désinfecter les tomates. Retirer le pédoncule et couper les tomates en quartiers.
B21: =Besoins!B20 -> Oignons émincés surgelés | C21: =Besoins!E20 -> 4 | D21: =Besoins!F20 -> kg
B22: =Besoins!B22 -> Poivrons verts rouges en lanières surgelés | C22: =Besoins!E22 -> 2.5 | D22: =Besoins!F22 -> kg
B23: =Besoins!B19 -> Haricots plats d'Espagne surgeles | C23: =Besoins!E19 -> 2 | D23: =Besoins!F19 -> kg
B24: =Besoins!B21 -> Petits pois doux très fins surgelés | C24: =Besoins!E21 -> 2 | D24: =Besoins!F21 -> kg
B25: =Besoins!B18 -> Ail haché IQF | C25: =Besoins!E18 -> 0.2 | D25: =Besoins!F18 -> kg
B26: =Besoins!B16 -> TOMATE ronde Maroc cat.I 67-82mm | C26: =Besoins!E16 -> 4 | D26: =Besoins!F16 -> kg
A27: 2. | B27: =Procedure!D7 -> Faire revenir la garniture aromatique — Dans la sauteuse, faire revenir à l'huile les oignons émincés. Ajouter les lanières de poivrons. Laisser suer à couvert quelques instants les deux éléments. Les haricots plats, les petits pois, l'ail haché, les épices et les quartiers de tomate sont ajoutés avec le riz (voir la fiche de la paëlla).
B28: HUILE OLIVE (L) (conv.) | C28: ='Besoins'!$B$2*2 -> 2 | D28: lt
B29: =Besoins!B9 -> Épices paëlla (type Spigol / Rizdor) | C29: =Besoins!E9 -> 0.016 | D29: =Besoins!F9 -> kg
A31: ↳ Bouillon de volaille reconstitue (collectivite) GRO-BOUIL-VOL
A32: 1. | B32: ="[DISSOUDRE] "&Procedure!D8 -> [DISSOUDRE] Délayer la poudre dans l'eau froide en fouettant, puis porter à ébullition en remuant régulièrement.
B33: =Besoins!B7 -> Eau (robinet - moy. France 2026) | C33: =Besoins!E7 -> 19.6 | D33: =Besoins!F7 -> lt
B34: =Besoins!B13 -> Bouillon de Volaille déshydraté (Knorr Professional) | C34: =Besoins!E13 -> 0.4 | D34: =Besoins!F13 -> kg
A36: CUIS.web — Portage du CUIS Clipper de 1992 par Palika & Bernard Vandendaele (créateur du moteur récursif d'origine)
