Workbook

Sheet Besoins
A1: Besoins matière
A2: Multiplicateur souhaité | B2: 1
A3: Quantité de référence | B3: 0.9 | C3: kg
A4: Quantité obtenue | B4: =$B$2*B3 -> 0.9 | C4: =C3 -> kg
A6: Code | B6: Matière première | C6: Classe | D6: Base (×1, modifiable) | E6: Quantité | F6: Unité | G6: Coût
A7: EAU | B7: Eau (robinet - moy. France 2026) | C7: Matières premières | D7: 0.377895 | E7: =D7*$B$2 -> 0.377895 | F7: lt | G7: =E7*0.004299997 -> 0.001625
A8: FAR-SEIGLE | B8: Farine de seigle T130 | C8: Farines alternatives & spéciales | D8: 0.081711 | E8: =D8*$B$2 -> 0.081711 | F8: kg | G8: =E8*1.1999930435 -> 0.098053
A9: FAR-TRAD | B9: Farine de tradition française T65 | C9: Farines de blé | D9: 0.455 | E9: =D9*$B$2 -> 0.455 | F9: kg | G9: =E9*0.82 -> 0.3731
A10: LEV-FRAICHE | B10: Levure fraîche de boulanger | C10: Levures et agents levants | D10: 0.002 | E10: =D10*$B$2 -> 0.002 | F10: kg | G10: =E10*2.2 -> 0.0044
A11: SEL-FIN | B11: Sel fin de cuisine | C11: Sels et condiments de base | D11: 0.009 | E11: =D11*$B$2 -> 0.009 | F11: kg | G11: =E11*0.35 -> 0.00315
A12: MIEL-FLORES | B12: Miel toutes fleurs vrac | C12: Sucres et édulcorants | D12: 0.000395 | E12: =D12*$B$2 -> 0.000395 | F12: kg | G12: =E12*5.7961359094 -> 0.002289
F13: Total | G13: =SUM(G7:G12) -> 0

Sheet Procedure
A1: Recette | B1: # | C1: Verbe | D1: Étape | E1: Précision technique | F1: Durée
A2: Pain de campagne (Ferrandi) | B2: 1 | C2: FRASER | D2: Fraser farine tradition (425g), farine seigle (75g), eau (340g), sel (9g), levure (2g) et levain liquide (75g), 5 min vitesse lente. | F2: 5 min (prepa)
A3: Pain de campagne (Ferrandi) | B3: 2 | C3: POINTER | D3: Pointer 30 min, rabat, pointer 1h de plus. | F3: 90 min (repos)
A4: Pain de campagne (Ferrandi) | B4: 3 | C4: DIVISER | D4: Diviser en 3 pâtons de 300g, bouler, détendre au réfrigérateur. | F4: 30 min (repos)
A5: Pain de campagne (Ferrandi) | B5: 4 | C5: FAÇONNER | D5: Façonner en bâtard, soudure vers le haut, apprêt. | F5: 60 min (repos)
A6: Pain de campagne (Ferrandi) | B6: 5 | C6: RETOURNER | D6: Retourner, grigner au centre puis en chevrons. Enfourner avec buée, puis sécher porte ouverte. | E6: 250°C puis 200°C | F6: 25 min (cuisson)
A7: Levain liquide (rafraîchi, Ferrandi) | B7: 1 | C7: VERSER | D7: Verser l'eau (120g) à 45°C dans le bocal du levain, délayer légèrement à la maryse. | E7: Eau à 45°C | F7: 5 min (prepa)
A8: Levain liquide (rafraîchi, Ferrandi) | B8: 2 | C8: VERSER | D8: Verser le levain tout point (60g) dans un saladier, fouetter jusqu'à petites bulles.
A9: Levain liquide (rafraîchi, Ferrandi) | B9: 3 | C9: INCORPORER | D9: Ajouter la farine de tradition T65 (120g), mélanger au fouet.
A10: Levain liquide (rafraîchi, Ferrandi) | B10: 4 | C10: VERSER | D10: Verser dans un bocal propre, réserver au chaud jusqu'à tripler de volume, grosses bulles, début de crevasses. | E10: Idéalement 35°C — odeur/goût légers, lactiques, comme un yaourt | F10: 300 min (repos)
A11: Levain chef (Ferrandi) | B11: 1 | C11: VERSER | D11: Dans un saladier, verser le miel (5g) et l'eau (100g) à 45°C, mélanger pour dissoudre. | E11: Eau à 45°C | F11: 5 min (prepa)
A12: Levain chef (Ferrandi) | B12: 2 | C12: INCORPORER | D12: Incorporer la farine de seigle (85g) au fouet.
A13: Levain chef (Ferrandi) | B13: 3 | C13: METTRE | D13: Mettre dans un bocal propre, réserver au chaud jusqu'à odeur marquée et grosses bulles, texture façon mousse au chocolat. | E13: Idéalement 35°C | F13: 2160 min (repos)

Sheet Arborescence FT
A1: Niveau | B1: Composant | C1: Type | D1: Quantité (× multiplicateur, voir feuille Besoins) | E1: Unité
A2: 0 | B2: Pain de campagne (Ferrandi) | C2: recette | D2: ='Besoins'!$B$2*0.9 -> 0.9 | E2: kg
A3: 1 | B3: ↳ Farine de tradition française T65 | C3: matiere | D3: ='Besoins'!$B$2*0.425 -> 0.425 | E3: kg
A4: 1 | B4: ↳ Farine de seigle T130 | C4: matiere | D4: ='Besoins'!$B$2*0.075 -> 0.075 | E4: kg
A5: 1 | B5: ↳ Eau (robinet - moy. France 2026) | C5: matiere | D5: ='Besoins'!$B$2*0.34 -> 0.34 | E5: lt
A6: 1 | B6: ↳ Sel fin de cuisine | C6: matiere | D6: ='Besoins'!$B$2*0.009 -> 0.009 | E6: kg
A7: 1 | B7: ↳ Levure fraîche de boulanger | C7: matiere | D7: ='Besoins'!$B$2*0.002 -> 0.002 | E7: kg
A8: 1 | B8: ↳ Levain liquide (rafraîchi, Ferrandi) | C8: recette | D8: ='Besoins'!$B$2*0.075 -> 0.075 | E8: kg
A9: 2 | B9: ↳ Levain chef (Ferrandi) | C9: recette | D9: ='Besoins'!$B$2*0.015 -> 0.015 | E9: kg
A10: 3 | B10: ↳ Miel toutes fleurs vrac | C10: matiere | D10: ='Besoins'!$B$2*0.0003947368 -> 0.000395 | E10: kg
A11: 3 | B11: ↳ Eau (robinet - moy. France 2026) | C11: matiere | D11: ='Besoins'!$B$2*0.0078947368 -> 0.007895 | E11: lt
A12: 3 | B12: ↳ Farine de seigle T130 | C12: matiere | D12: ='Besoins'!$B$2*0.0067105263 -> 0.006711 | E12: kg
A13: 2 | B13: ↳ Eau (robinet - moy. France 2026) | C13: matiere | D13: ='Besoins'!$B$2*0.03 -> 0.03 | E13: lt
A14: 2 | B14: ↳ Farine de tradition française T65 | C14: matiere | D14: ='Besoins'!$B$2*0.03 -> 0.03 | E14: kg

Sheet Carte imprimable
A1: Fiche technique — Pain de campagne (Ferrandi)
A2: ="FER-PAINCAMP · BOU.PAINS_CLASS · référence : "&Besoins!B3&" "&Besoins!C3&" · multiplicateur réglable sur la feuille ""Besoins""" -> FER-PAINCAMP · BOU.PAINS_CLASS · référence : 0,9 kg · multiplicateur réglable sur la feuille
A4: Pain de campagne (Ferrandi) FER-PAINCAMP
A5: 1. | B5: ="[FRASER] "&Procedure!D2 -> [FRASER] Fraser farine tradition (425g), farine seigle (75g), eau (340g), sel (9g), levure (2g) et levain liquide (75g), 5 min vitesse lente.
B6: Farine de tradition française T65 | C6: ='Besoins'!$B$2*0.425 -> 0.425 | D6: kg
B7: Farine de seigle T130 | C7: ='Besoins'!$B$2*0.075 -> 0.075 | D7: kg
B8: Eau (robinet - moy. France 2026) | C8: ='Besoins'!$B$2*0.34 -> 0.34 | D8: lt
B9: =Besoins!B11 -> Sel fin de cuisine | C9: =Besoins!E11 -> 0.009 | D9: =Besoins!F11 -> kg
B10: =Besoins!B10 -> Levure fraîche de boulanger | C10: =Besoins!E10 -> 0.002 | D10: =Besoins!F10 -> kg
B11: Levain liquide (rafraîchi, Ferrandi) | C11: ='Besoins'!$B$2*0.075 -> 0.075 | D11: kg
A12: 2. | B12: ="[POINTER] "&Procedure!D3 -> [POINTER] Pointer 30 min, rabat, pointer 1h de plus.
A13: 3. | B13: ="[DIVISER] "&Procedure!D4 -> [DIVISER] Diviser en 3 pâtons de 300g, bouler, détendre au réfrigérateur.
A14: 4. | B14: ="[FAÇONNER] "&Procedure!D5 -> [FAÇONNER] Façonner en bâtard, soudure vers le haut, apprêt.
A15: 5. | B15: ="[RETOURNER] "&Procedure!D6 -> [RETOURNER] Retourner, grigner au centre puis en chevrons. Enfourner avec buée, puis sécher porte ouverte.
B16: ="ℹ "&Procedure!E6 -> ℹ
A18: ↳ Levain liquide (rafraîchi, Ferrandi) FER-LEVLIQ
A19: 1. | B19: ="[VERSER] "&Procedure!D7 -> [VERSER] Verser l'eau (120g) à 45°C dans le bocal du levain, délayer légèrement à la maryse.
B20: Eau (robinet - moy. France 2026) | C20: ='Besoins'!$B$2*0.03 -> 0.03 | D20: lt
B21: ="ℹ "&Procedure!E7 -> ℹ
A22: 2. | B22: ="[VERSER] "&Procedure!D8 -> [VERSER] Verser le levain tout point (60g) dans un saladier, fouetter jusqu'à petites bulles.
B23: Levain chef (Ferrandi) | C23: ='Besoins'!$B$2*0.015 -> 0.015 | D23: kg
A24: 3. | B24: ="[INCORPORER] "&Procedure!D9 -> [INCORPORER] Ajouter la farine de tradition T65 (120g), mélanger au fouet.
B25: Farine de tradition française T65 | C25: ='Besoins'!$B$2*0.03 -> 0.03 | D25: kg
A26: 4. | B26: ="[VERSER] "&Procedure!D10 -> [VERSER] Verser dans un bocal propre, réserver au chaud jusqu'à tripler de volume, grosses bulles, début de crevasses.
B27: ="ℹ "&Procedure!E10 -> ℹ
A29: ↳ Levain chef (Ferrandi) FER-LEVCHEF
A30: 1. | B30: ="[VERSER] "&Procedure!D11 -> [VERSER] Dans un saladier, verser le miel (5g) et l'eau (100g) à 45°C, mélanger pour dissoudre.
B31: =Besoins!B12 -> Miel toutes fleurs vrac | C31: =Besoins!E12 -> 0.000395 | D31: =Besoins!F12 -> kg
B32: Eau (robinet - moy. France 2026) | C32: ='Besoins'!$B$2*0.0078947368 -> 0.007895 | D32: lt
B33: ="ℹ "&Procedure!E11 -> ℹ
A34: 2. | B34: ="[INCORPORER] "&Procedure!D12 -> [INCORPORER] Incorporer la farine de seigle (85g) au fouet.
B35: Farine de seigle T130 | C35: ='Besoins'!$B$2*0.0067105263 -> 0.006711 | D35: kg
A36: 3. | B36: ="[METTRE] "&Procedure!D13 -> [METTRE] Mettre dans un bocal propre, réserver au chaud jusqu'à odeur marquée et grosses bulles, texture façon mousse au chocolat.
B37: ="ℹ "&Procedure!E13 -> ℹ
A39: CUIS.web — Portage du CUIS Clipper de 1992 par Palika & Bernard Vandendaele (créateur du moteur récursif d'origine)
