Workbook

Sheet Besoins
A1: Besoins matière
A2: Multiplicateur souhaité | B2: 1
A3: Quantité de référence | B3: 1.213 | C3: kg
A4: Quantité obtenue | B4: =$B$2*B3 -> 1.213 | C4: =C3 -> kg
A6: Code | B6: Matière première | C6: Classe | D6: Base (×1, modifiable) | E6: Quantité | F6: Unité | G6: Coût
A7: 00000014 | B7: VANILLE (baton) | C7: Eléments divers | D7: 0.5 | E7: =D7*$B$2 -> 0.5 | F7: pc | G7: =E7*0.5902684211 -> 0.295134
A8: 00000048 | B8: BEURRE | C8: Produits frais | D8: 0.3 | E8: =D8*$B$2 -> 0.3 | F8: kg | G8: =E8*3.9514 -> 1.18542
A9: 00000047 | B9: OEUF A3 (PRIX) | C9: Produits laitiers | D9: 3.947368 | E9: =D9*$B$2 -> 3.947368 | F9: pc | G9: =E9*0.2700000288 -> 1.065789
A10: 00000061 | B10: EAU | C10: Matières diverses (à trier) | D10: 0.05 | E10: =D10*$B$2 -> 0.05 | F10: lt | G10: =E10*0.003 -> 0.00015
A11: FAR-T55 | B11: Farine de blé T55 | C11: Farines de blé | D11: 0.5 | E11: =D11*$B$2 -> 0.5 | F11: kg | G11: =E11*0.56 -> 0.28
A12: LEV-CHIMIQUE | B12: Levure chimique (poudre à lever) | C12: Levures et agents levants | D12: 0.01 | E12: =D12*$B$2 -> 0.01 | F12: kg | G12: =E12*4.2 -> 0.042
A13: SEL-FIN | B13: Sel fin de cuisine | C13: Sels et condiments de base | D13: 0.003 | E13: =D13*$B$2 -> 0.003 | F13: kg | G13: =E13*0.35 -> 0.00105
A14: SUC-GLACE | B14: Sucre glace tamisé | C14: Sucres et édulcorants | D14: 0.2 | E14: =D14*$B$2 -> 0.2 | F14: kg | G14: =E14*1.05 -> 0.21
F15: Total | G15: =SUM(G7:G14) -> 0

Sheet Procedure
A1: Recette | B1: # | C1: Verbe | D1: Étape | E1: Précision technique | F1: Durée
A2: Sables vanille (PDR) | B2: 1 | C2: CONFECTIONNER | D2: Confectionner la pate sablee. Repos froid 1h minimum. | F2: 60 min (repos)
A3: Sables vanille (PDR) | B3: 2 | C3: ABAISSER | D3: Abaisser et decouper. 3,5mm, emporte-piece cannele Ø50mm.
A4: Sables vanille (PDR) | B4: 3 | C4: DORER | D4: Dorer une premiere fois. Repos frais +6 degres, 1h. | F4: 60 min (repos)
A5: Sables vanille (PDR) | B5: 4 | C5: DORER | D5: Dorer a nouveau. Tracer des lignes a la fourchette.
A6: Sables vanille (PDR) | B6: 5 | C6: CUIRE | D6: Cuire. 170-180 degres, 15 min. | F6: 15 min (cuisson)

Sheet Arborescence FT
A1: Niveau | B1: Composant | C1: Type | D1: Quantité (× multiplicateur, voir feuille Besoins) | E1: Unité
A2: 0 | B2: Sables vanille (PDR) | C2: recette | D2: ='Besoins'!$B$2*1.213 -> 1.213 | E2: kg
A3: 1 | B3: ↳ Farine de blé T55 | C3: matiere | D3: ='Besoins'!$B$2*0.5 -> 0.5 | E3: kg
A4: 1 | B4: ↳ Levure chimique (poudre à lever) | C4: matiere | D4: ='Besoins'!$B$2*0.01 -> 0.01 | E4: kg
A5: 1 | B5: ↳ BEURRE | C5: matiere | D5: ='Besoins'!$B$2*0.3 -> 0.3 | E5: kg
A6: 1 | B6: ↳ Sucre glace tamisé | C6: matiere | D6: ='Besoins'!$B$2*0.2 -> 0.2 | E6: kg
A7: 1 | B7: ↳ JAUNE D'OEUF (ML) (conv.) | C7: conversion | D7: ='Besoins'!$B$2*0.09 -> 0.09 | E7: kg
A8: 1 | B8: ↳ Sel fin de cuisine | C8: matiere | D8: ='Besoins'!$B$2*0.003 -> 0.003 | E8: kg
A9: 1 | B9: ↳ EAU | C9: matiere | D9: ='Besoins'!$B$2*0.05 -> 0.05 | E9: lt
A10: 1 | B10: ↳ VANILLE (baton) | C10: matiere | D10: ='Besoins'!$B$2*0.5 -> 0.5 | E10: pc
A11: 1 | B11: ↳ JAUNE D'OEUF (ML) (conv.) | C11: conversion | D11: ='Besoins'!$B$2*0.06 -> 0.06 | E11: kg

Sheet Carte imprimable
A1: Fiche technique — Sables vanille (PDR)
A2: ="PDR-SABLES-VANIL · PAT.PETITS_FOURS · référence : "&Besoins!B3&" "&Besoins!C3&" · multiplicateur réglable sur la feuille ""Besoins""" -> PDR-SABLES-VANIL · PAT.PETITS_FOURS · référence : 1,213 kg · multiplicateur réglable sur la feuille
A4: Sables vanille (PDR) PDR-SABLES-VANIL
A5: 1. | B5: ="[CONFECTIONNER] "&Procedure!D2 -> [CONFECTIONNER] Confectionner la pate sablee. Repos froid 1h minimum.
A6: 2. | B6: ="[ABAISSER] "&Procedure!D3 -> [ABAISSER] Abaisser et decouper. 3,5mm, emporte-piece cannele Ø50mm.
A7: 3. | B7: ="[DORER] "&Procedure!D4 -> [DORER] Dorer une premiere fois. Repos frais +6 degres, 1h.
A8: 4. | B8: ="[DORER] "&Procedure!D5 -> [DORER] Dorer a nouveau. Tracer des lignes a la fourchette.
A9: 5. | B9: ="[CUIRE] "&Procedure!D6 -> [CUIRE] Cuire. 170-180 degres, 15 min.
A11: CUIS.web — Portage du CUIS Clipper de 1992 par Palika & Bernard Vandendaele (créateur du moteur récursif d'origine)
