Workbook

Sheet Besoins
A1: Besoins matière
A2: Multiplicateur souhaité | B2: 1
A3: Quantité de référence | B3: 10 | C3: pc
A4: Quantité obtenue | B4: =$B$2*B3 -> 10 | C4: =C3 -> pc
A6: Code | B6: Matière première | C6: Classe | D6: Base (×1, modifiable) | E6: Quantité | F6: Unité | G6: Coût
A7: 00000014 | B7: VANILLE (baton) | C7: Eléments divers | D7: 0.25 | E7: =D7*$B$2 -> 0.25 | F7: pc | G7: =E7*0.5902684211 -> 0.147567
A8: 00000048 | B8: BEURRE | C8: Produits frais | D8: 0.15346 | E8: =D8*$B$2 -> 0.15346 | F8: kg | G8: =E8*3.951395402 -> 0.606381
A9: 00000054 | B9: CITRON PULCO (JUS) | C9: FRUIT FRAIS | D9: 0.02 | E9: =D9*$B$2 -> 0.02 | F9: lt | G9: =E9*3.6741428571 -> 0.073483
A10: 00000047 | B10: OEUF A3 (PRIX) | C10: Produits laitiers | D10: 2.646147 | E10: =D10*$B$2 -> 2.646147 | F10: pc | G10: =E10*0.2699999609 -> 0.71446
A11: 00000061 | B11: EAU | C11: Matières diverses (à trier) | D11: 0.061384 | E11: =D11*$B$2 -> 0.061384 | F11: lt | G11: =E11*0.0029999965 -> 0.000184
A12: EPI-CANNELLE-POW | B12: Cannelle en poudre | C12: Épices en poudre et graines | D12: 0.003 | E12: =D12*$B$2 -> 0.003 | F12: kg | G12: =E12*10.5 -> 0.0315
A13: FAR-T55 | B13: Farine de blé T55 | C13: Farines de blé | D13: 0.30692 | E13: =D13*$B$2 -> 0.30692 | F13: kg | G13: =E13*0.5599993484 -> 0.171875
A14: 00000051 | B14: LAIT | C14: Produits laitiers | D14: 0.25 | E14: =D14*$B$2 -> 0.25 | F14: lt | G14: =E14*0.5999 -> 0.149975
A15: RNM57226098 | B15: POMME Golden France cat.I 170/220g plateau 2rg | C15: Légumes | D15: 0.6 | E15: =D15*$B$2 -> 0.6 | F15: kg | G15: =E15*1.3 -> 0.78
A16: SEL-FIN | B16: Sel fin de cuisine | C16: Sels et condiments de base | D16: 0.003683 | E16: =D16*$B$2 -> 0.003683 | F16: kg | G16: =E16*0.350003394 -> 0.001289
A17: SUC-BLANC | B17: Sucre blanc cristal sac 25 kg | C17: Sucres et édulcorants | D17: 0.05 | E17: =D17*$B$2 -> 0.05 | F17: kg | G17: =E17*0.82 -> 0.041
A18: SUC-GLACE | B18: Sucre glace tamisé | C18: Sucres et édulcorants | D18: 0.03 | E18: =D18*$B$2 -> 0.03 | F18: kg | G18: =E18*1.05 -> 0.0315
F19: Total | G19: =SUM(G7:G18) -> 0

Sheet Procedure
A1: Recette | B1: # | C1: Verbe | D1: Étape | E1: Précision technique | F1: Durée
A2: Tarte aux pommes a l'alsacienne (PDR) | B2: 1 | C2: FONCER | D2: Fonces le fond. Pate brisee sucree.
A3: Tarte aux pommes a l'alsacienne (PDR) | B3: 2 | C3: DISPOSER | D3: Disposer les quartiers de pommes citronnes. Sur le fond cru.
A4: Tarte aux pommes a l'alsacienne (PDR) | B4: 3 | D4: Mise en cuisson partielle. Decercler.
A5: Tarte aux pommes a l'alsacienne (PDR) | B5: 4 | C5: INCORPORER | D5: Ajouter l'appareil a crème prise. En cours de cuisson, poursuivre.
A6: Tarte aux pommes a l'alsacienne (PDR) | B6: 5 | C6: DÉCORER | D6: Finir. Cannelle et sucre glace.
A7: Pate brisee traditionnelle (PDR) | B7: 1 | C7: METTRE EN PLACE | D7: Mettre en place le poste de travail. Denrees, materiels de preparation, de cuisson et de dressage.
A8: Pate brisee traditionnelle (PDR) | B8: 2 | C8: SABLER | D8: Sabler farine et beurre. Fontaine de farine+sel, beurre en parcelles incorpore du bout des doigts.
A9: Pate brisee traditionnelle (PDR) | B9: 3 | C9: INCORPORER | D9: Ajouter l'eau et le jaune. Melanger au centre de la fontaine.
A10: Pate brisee traditionnelle (PDR) | B10: 4 | C10: FRASER | D10: Fraiser sans corser. Une a deux fois maximum, rassembler en boule sans retravailler.
A11: Pate brisee traditionnelle (PDR) | B11: 5 | C11: RÉSERVER | D11: Reserver au froid. Filmer, laisser reposer au frais avant utilisation.

Sheet Arborescence FT
A1: Niveau | B1: Composant | C1: Type | D1: Quantité (× multiplicateur, voir feuille Besoins) | E1: Unité
A2: 0 | B2: Tarte aux pommes a l'alsacienne (PDR) | C2: recette | D2: ='Besoins'!$B$2*10 -> 10 | E2: pc
A3: 1 | B3: ↳ Pate brisee traditionnelle (PDR) | C3: recette | D3: ='Besoins'!$B$2*0.55 -> 0.55 | E3: kg
A4: 2 | B4: ↳ Farine de blé T55 | C4: matiere | D4: ='Besoins'!$B$2*0.3069196429 -> 0.30692 | E4: kg
A5: 2 | B5: ↳ BEURRE | C5: matiere | D5: ='Besoins'!$B$2*0.1534598214 -> 0.15346 | E5: kg
A6: 2 | B6: ↳ Sel fin de cuisine | C6: matiere | D6: ='Besoins'!$B$2*0.0036830357 -> 0.003683 | E6: kg
A7: 2 | B7: ↳ EAU | C7: matiere | D7: ='Besoins'!$B$2*0.0613839286 -> 0.061384 | E7: lt
A8: 2 | B8: ↳ JAUNE D'OEUF (ML) (conv.) | C8: conversion | D8: ='Besoins'!$B$2*0.0245535714 -> 0.024554 | E8: kg
A9: 1 | B9: ↳ POMME Golden France cat.I 170/220g plateau 2rg | C9: matiere | D9: ='Besoins'!$B$2*0.6 -> 0.6 | E9: kg
A10: 1 | B10: ↳ CITRON PULCO (JUS) | C10: matiere | D10: ='Besoins'!$B$2*0.02 -> 0.02 | E10: lt
A11: 1 | B11: ↳ LAIT | C11: matiere | D11: ='Besoins'!$B$2*0.25 -> 0.25 | E11: lt
A12: 1 | B12: ↳ OEUF (P) (conv.) | C12: conversion | D12: ='Besoins'!$B$2*2 -> 2 | E12: pc
A13: 1 | B13: ↳ Sucre blanc cristal sac 25 kg | C13: matiere | D13: ='Besoins'!$B$2*0.05 -> 0.05 | E13: kg
A14: 1 | B14: ↳ VANILLE (baton) | C14: matiere | D14: ='Besoins'!$B$2*0.25 -> 0.25 | E14: pc
A15: 1 | B15: ↳ Sucre glace tamisé | C15: matiere | D15: ='Besoins'!$B$2*0.03 -> 0.03 | E15: kg
A16: 1 | B16: ↳ Cannelle en poudre | C16: matiere | D16: ='Besoins'!$B$2*0.003 -> 0.003 | E16: kg

Sheet Carte imprimable
A1: Fiche technique — Tarte aux pommes a l'alsacienne (PDR)
A2: ="PDR-TART-POM-ALS · PAT.TARTES · référence : "&Besoins!B3&" "&Besoins!C3&" · multiplicateur réglable sur la feuille ""Besoins""" -> PDR-TART-POM-ALS · PAT.TARTES · référence : 10 pc · multiplicateur réglable sur la feuille
A4: Tarte aux pommes a l'alsacienne (PDR) PDR-TART-POM-ALS
A5: 1. | B5: ="[FONCER] "&Procedure!D2 -> [FONCER] Fonces le fond. Pate brisee sucree.
A6: 2. | B6: ="[DISPOSER] "&Procedure!D3 -> [DISPOSER] Disposer les quartiers de pommes citronnes. Sur le fond cru.
A7: 3. | B7: =Procedure!D4 -> Mise en cuisson partielle. Decercler.
A8: 4. | B8: ="[INCORPORER] "&Procedure!D5 -> [INCORPORER] Ajouter l'appareil a crème prise. En cours de cuisson, poursuivre.
A9: 5. | B9: ="[DÉCORER] "&Procedure!D6 -> [DÉCORER] Finir. Cannelle et sucre glace.
A11: ↳ Pate brisee traditionnelle (PDR) PDR-PAT-BRISEE
A12: 1. | B12: ="[METTRE EN PLACE] "&Procedure!D7 -> [METTRE EN PLACE] Mettre en place le poste de travail. Denrees, materiels de preparation, de cuisson et de dressage.
A13: 2. | B13: ="[SABLER] "&Procedure!D8 -> [SABLER] Sabler farine et beurre. Fontaine de farine+sel, beurre en parcelles incorpore du bout des doigts.
A14: 3. | B14: ="[INCORPORER] "&Procedure!D9 -> [INCORPORER] Ajouter l'eau et le jaune. Melanger au centre de la fontaine.
A15: 4. | B15: ="[FRASER] "&Procedure!D10 -> [FRASER] Fraiser sans corser. Une a deux fois maximum, rassembler en boule sans retravailler.
A16: 5. | B16: ="[RÉSERVER] "&Procedure!D11 -> [RÉSERVER] Reserver au froid. Filmer, laisser reposer au frais avant utilisation.
A18: CUIS.web — Portage du CUIS Clipper de 1992 par Palika & Bernard Vandendaele (créateur du moteur récursif d'origine)
