Workbook

Sheet Fiche
A1: Fiche technique
A2: Nom | B2: POTAGE CULTIVATEUR (TOUT SURGELE)
A3: Code | B3: GRO_CDC_042B
A4: Classe | B4: Potages collectivité (GRO.POTAGES)
A5: Statut | B5: publie
A6: Verrouillée | B6: Non
A7: Source bibliographique
A8: Provenance
A10: Quantité de référence | B10: 100 pc
A11: Coût de revient (qt de référence) | B11: 93.81166
A12: Coût unitaire | B12: 0.9381166
A14: Quantité demandée pour cet export | B14: 100 pc
A15: Coût de revient total pour cette quantité | B15: 93.81166
A17: Export généré le | B17: 23/09/2026 21:53
B18: CUIS.web — Portage du CUIS Clipper de 1992 par Palika & Bernard Vandendaele (créateur du moteur récursif d'origine)

Sheet Besoins
A1: Besoins matière
A2: Multiplicateur souhaité | B2: 1
A3: Quantité de référence | B3: 100 | C3: pc
A4: Quantité obtenue | B4: =$B$2*B3 -> 100 | C4: =C3 -> pc
A6: Code | B6: Matière première | C6: Classe | D6: Base (×1, modifiable) | E6: Quantité | F6: Unité | G6: Coût
A7: PAIN-RASSIS | B7: Pain rassis | C7: Farines de blé | D7: 6 | E7: =D7*$B$2 -> 6 | F7: kg | G7: =E7*1.5 -> 9
A8: BEU-DOUX | B8: Beurre doux 82% MG plaquette | C8: Beurres et margarines | D8: 0.5 | E8: =D8*$B$2 -> 0.5 | F8: kg | G8: =E8*5.2 -> 2.6
A9: RNM0200155 | B9: EMMENTAL 1 kg rapé | C9: Fromages | D9: 2 | E9: =D9*$B$2 -> 2 | F9: kg | G9: =E9*8.1 -> 16.2
A10: 00002259 | B10: POMMES de TERRE CUITES A COEUR SOUS VIDE PASTEURISÉES NON STÉRILISÉES. sans conservateur -ni additifs-ni allergènes | C10: Légumes 4ème gamme (prêts emploi) | D10: 6 | E10: =D10*$B$2 -> 6 | F10: kg | G10: =E10*0.3 -> 1.8
A11: RNM0370123 | B11: CÉLERI-RAVE France | C11: Légumes | D11: 1 | E11: =D11*$B$2 -> 1 | F11: kg | G11: =E11*1.1 -> 1.1
A12: RNM0020160 | B12: CERFEUIL France botte | C12: Légumes | D12: 1 | E12: =D12*$B$2 -> 1 | F12: bte | G12: =E12*6 -> 6
A13: RNM0290123 | B13: CHOU vert France cat.I colis de 6 | C13: Légumes | D13: 1.481 | E13: =D13*$B$2 -> 1.481 | F13: pc | G13: =E13*11 -> 16.291
A14: SEL-GROS | B14: Gros sel de mer | C14: Sels et condiments de base | D14: 0.073 | E14: =D14*$B$2 -> 0.073 | F14: kg | G14: =E14*0.42 -> 0.03066
A15: RNMS00751 | B15: Carottes en rondelles surgelées | C15: Légumes surgelés | D15: 4 | E15: =D15*$B$2 -> 4 | F15: kg | G15: =E15*2.17 -> 8.68
A16: RNMS00760 | B16: Haricots verts très fins surgelés | C16: Légumes surgelés | D16: 2 | E16: =D16*$B$2 -> 2 | F16: kg | G16: =E16*2.83 -> 5.66
A17: RNMS00766 | B17: Navets en dés surgelés | C17: Légumes surgelés | D17: 2 | E17: =D17*$B$2 -> 2 | F17: kg | G17: =E17*1.92 -> 3.84
A18: RNMS00764 | B18: Petits pois doux très fins surgelés | C18: Légumes surgelés | D18: 1 | E18: =D18*$B$2 -> 1 | F18: kg | G18: =E18*3.21 -> 3.21
A19: POIREAU-EM-SURG | B19: Poireaux émincés surgelés | C19: Légumes surgelés | D19: 2 | E19: =D19*$B$2 -> 2 | F19: kg | G19: =E19*3.2 -> 6.4
A20: POITRINE-FRAICHE | B20: Poitrine de porc fraîche | C20: Porc frais | D20: 2 | E20: =D20*$B$2 -> 2 | F20: kg | G20: =E20*6.5 -> 13
F21: Total | G21: =SUM(G7:G20) -> 0

Sheet Composition
A1: Niveau | B1: Composant | C1: Type | D1: Quantité (pour 100 pc) | E1: Unité | F1: Classe
A2: 0 | B2: POTAGE CULTIVATEUR (TOUT SURGELE) | C2: recette | D2: 100 | E2: pc | F2: Potages collectivité
A3: 1 | B3: ↳ Poireaux émincés surgelés | C3: matiere | D3: 2 | E3: kg | F3: Légumes surgelés
A4: 1 | B4: ↳ Carottes en rondelles surgelées | C4: matiere | D4: 4 | E4: kg | F4: Légumes surgelés
A5: 1 | B5: ↳ Navets en dés surgelés | C5: matiere | D5: 2 | E5: kg | F5: Légumes surgelés
A6: 1 | B6: ↳ CÉLERI-RAVE France | C6: matiere | D6: 1 | E6: kg | F6: Légumes
A7: 1 | B7: ↳ POMMES de TERRE CUITES A COEUR SOUS VIDE PASTEURISÉES NON STÉRILISÉES. sans conservateur -ni additifs-ni allergènes | C7: matiere | D7: 6 | E7: kg | F7: Légumes 4ème gamme (prêts emploi)
A8: 1 | B8: ↳ Petits pois doux très fins surgelés | C8: matiere | D8: 1 | E8: kg | F8: Légumes surgelés
A9: 1 | B9: ↳ Haricots verts très fins surgelés | C9: matiere | D9: 2 | E9: kg | F9: Légumes surgelés
A10: 1 | B10: ↳ CHOU vert France cat.I colis de 6 | C10: matiere | D10: 1.481 | E10: pc | F10: Légumes
A11: 1 | B11: ↳ Poitrine de porc fraîche | C11: matiere | D11: 2 | E11: kg | F11: Porc frais
A12: 1 | B12: ↳ Beurre doux 82% MG plaquette | C12: matiere | D12: 0.5 | E12: kg | F12: Beurres et margarines
A13: 1 | B13: ↳ Gros sel de mer | C13: matiere | D13: 0.073 | E13: kg | F13: Sels et condiments de base
... A17: 1 | B17: ↳ EMMENTAL 1 kg rapé | C17: matiere | D17: 2 | E17: kg | F17: Fromages

Sheet Procedure
A1: Recette | B1: # | C1: Verbe | D1: Étape | E1: Précision technique | F1: Durée
A2: POTAGE CULTIVATEUR (TOUT SURGELE) | B2: 1 | D2: Mise en place du poste de travail - Verifier les D.L.C., peser les denrees, selectionner le materiel necessaire. Laver et desinfecter le materiel et le poste de travail en suivant les protocoles.
A3: POTAGE CULTIVATEUR (TOUT SURGELE) | B3: 2 | D3: Preparations preliminaires - Deconditionner les legumes surgeles suivant la procedure. Reserver separement au froid. Deconditionner les pommes de terre sous-vide, egoutter si besoin. Reserver. Eplucher, laver et desinfecter le celeri-rave et le chou vert suivant la procedure (seuls legumes non surgeles de cette variante). Emincer en paysanne le celeri-rave et le chou vert. Effeuiller et reserver au froid dans une calotte les pluches de cerfeuil. Decouenner et tailler la poitrine fraiche en des. Dans une russe, blanchir les des de poitrine fraiche. Rafraichir et egoutter.
A4: POTAGE CULTIVATEUR (TOUT SURGELE) | B4: 3 | D4: Marquer la cuisson du potage - Dans un rondeau, faire suer au beurre les des de poitrine. Ajouter dans l'ordre l'emince de poireau surgele, puis les carottes et navets surgeles, et le celeri-rave frais emince. Mouiller avec 25 litres d'eau (ou de fond blanc de veau). Saler. Porter a ebullition. Ajouter le chou vert frais. Cuire 20 a 25 minutes. Ajouter les pommes de terre sous-vide (deja cuites, temps de reprise plus court que des PDT crues), les petits pois surgeles et les haricots verts surgeles. Cuire environ 5 a 8 minutes, le temps de reprise de la cuisson des pommes de terre sous-vide etant reduit par rapport a des PDT crues. Tester la cuisson. Maintenir au chaud.
A5: POTAGE CULTIVATEUR (TOUT SURGELE) | B5: 4 | D5: Preparer la garniture - Pendant la cuisson du potage, trancher les baguettes de pain en rondelles. Prechauffer le four a +175C. Deposer les rondelles sur des grilles de cuisson. Etager les grilles sur l'echelle du four. Enfourner et toaster legerement les rondelles de pain. Reserver a temperature tiede.
A6: POTAGE CULTIVATEUR (TOUT SURGELE) | B6: 5 | D6: Servir - Deposer dans le fond de l'assiette ou d'un bol, des rondelles de pain toastees et de l'emmenthal rape. Servir le potage cultivateur tres chaud, quelques pluches de cerfeuil sur le potage au depart du plat (facultatif).

Sheet Carte imprimable
A1: Fiche technique — POTAGE CULTIVATEUR (TOUT SURGELE)
A2: ="GRO_CDC_042B · GRO.POTAGES · référence : "&Besoins!B3&" "&Besoins!C3&" · multiplicateur réglable sur la feuille ""Besoins""" -> GRO_CDC_042B · GRO.POTAGES · référence : 100 pc · multiplicateur réglable sur la feuille
A4: POTAGE CULTIVATEUR (TOUT SURGELE) GRO_CDC_042B
A5: 1. | B5: =Procedure!D2 -> Mise en place du poste de travail - Verifier les D.L.C., peser les denrees, selectionner le materiel necessaire. Laver et desinfecter le materiel et le poste de travail en suivant les protocoles.
A6: 2. | B6: =Procedure!D3 -> Preparations preliminaires - Deconditionner les legumes surgeles suivant la procedure. Reserver separement au froid. Deconditionner les pommes de terre sous-vide, egoutter si besoin. Reserver. Eplucher, laver et desinfecter le celeri-rave et le chou vert suivant la procedure (seuls legumes non surgeles de cette variante). Emincer en paysanne le celeri-rave et le chou vert. Effeuiller et reserver au froid dans une calotte les pluches de cerfeuil. Decouenner et tailler la poitrine fraiche en des. Dans une russe, blanchir les des de poitrine fraiche. Rafraichir et egoutter.
B7: =Besoins!B19 -> Poireaux émincés surgelés | C7: =Besoins!E19 -> 2 | D7: =Besoins!F19 -> kg
B8: =Besoins!B15 -> Carottes en rondelles surgelées | C8: =Besoins!E15 -> 4 | D8: =Besoins!F15 -> kg
B9: =Besoins!B17 -> Navets en dés surgelés | C9: =Besoins!E17 -> 2 | D9: =Besoins!F17 -> kg
B10: =Besoins!B11 -> CÉLERI-RAVE France | C10: =Besoins!E11 -> 1 | D10: =Besoins!F11 -> kg
B11: =Besoins!B10 -> POMMES de TERRE CUITES A COEUR SOUS VIDE PASTEURISÉES NON STÉRILISÉES. sans conservateur -ni additifs-ni allergènes | C11: =Besoins!E10 -> 6 | D11: =Besoins!F10 -> kg
B12: =Besoins!B13 -> CHOU vert France cat.I colis de 6 | C12: =Besoins!E13 -> 1.481 | D12: =Besoins!F13 -> pc
B13: =Besoins!B20 -> Poitrine de porc fraîche | C13: =Besoins!E20 -> 2 | D13: =Besoins!F20 -> kg
B14: CERFEUIL (KG) (conv.) | C14: ='Besoins'!$B$2*0.03 -> 0.03 | D14: kg
A15: 3. | B15: =Procedure!D4 -> Marquer la cuisson du potage - Dans un rondeau, faire suer au beurre les des de poitrine. Ajouter dans l'ordre l'emince de poireau surgele, puis les carottes et navets surgeles, et le celeri-rave frais emince. Mouiller avec 25 litres d'eau (ou de fond blanc de veau). Saler. Porter a ebullition. Ajouter le chou vert frais. Cuire 20 a 25 minutes. Ajouter les pommes de terre sous-vide (deja cuites, temps de reprise plus court que des PDT crues), les petits pois surgeles et les haricots verts surgeles. Cuire environ 5 a 8 minutes, le temps de reprise de la cuisson des pommes de terre sous-vide etant reduit par rapport a des PDT crues. Tester la cuisson. Maintenir au chaud.
B16: =Besoins!B19 -> Poireaux émincés surgelés | C16: =Besoins!E19 -> 2 | D16: =Besoins!F19 -> kg
B17: =Besoins!B15 -> Carottes en rondelles surgelées | C17: =Besoins!E15 -> 4 | D17: =Besoins!F15 -> kg
B18: =Besoins!B17 -> Navets en dés surgelés | C18: =Besoins!E17 -> 2 | D18: =Besoins!F17 -> kg
B19: =Besoins!B11 -> CÉLERI-RAVE France | C19: =Besoins!E11 -> 1 | D19: =Besoins!F11 -> kg
B20: =Besoins!B10 -> POMMES de TERRE CUITES A COEUR SOUS VIDE PASTEURISÉES NON STÉRILISÉES. sans conservateur -ni additifs-ni allergènes | C20: =Besoins!E10 -> 6 | D20: =Besoins!F10 -> kg
B21: =Besoins!B18 -> Petits pois doux très fins surgelés | C21: =Besoins!E18 -> 1 | D21: =Besoins!F18 -> kg
B22: =Besoins!B16 -> Haricots verts très fins surgelés | C22: =Besoins!E16 -> 2 | D22: =Besoins!F16 -> kg
B23: =Besoins!B13 -> CHOU vert France cat.I colis de 6 | C23: =Besoins!E13 -> 1.481 | D23: =Besoins!F13 -> pc
B24: =Besoins!B8 -> Beurre doux 82% MG plaquette | C24: =Besoins!E8 -> 0.5 | D24: =Besoins!F8 -> kg
B25: =Besoins!B14 -> Gros sel de mer | C25: =Besoins!E14 -> 0.073 | D25: =Besoins!F14 -> kg
A26: 4. | B26: =Procedure!D5 -> Preparer la garniture - Pendant la cuisson du potage, trancher les baguettes de pain en rondelles. Prechauffer le four a +175C. Deposer les rondelles sur des grilles de cuisson. Etager les grilles sur l'echelle du four. Enfourner et toaster legerement les rondelles de pain. Reserver a temperature tiede.
B27: =Besoins!B7 -> Pain rassis | C27: =Besoins!E7 -> 6 | D27: =Besoins!F7 -> pc
A28: 5. | B28: =Procedure!D6 -> Servir - Deposer dans le fond de l'assiette ou d'un bol, des rondelles de pain toastees et de l'emmenthal rape. Servir le potage cultivateur tres chaud, quelques pluches de cerfeuil sur le potage au depart du plat (facultatif).
B29: =Besoins!B9 -> EMMENTAL 1 kg rapé | C29: =Besoins!E9 -> 2 | D29: =Besoins!F9 -> kg
A31: CUIS.web — Portage du CUIS Clipper de 1992 par Palika & Bernard Vandendaele (créateur du moteur récursif d'origine)
