Workbook

Sheet Fiche
A1: Fiche technique
A2: Nom | B2: Pièce de bœuf à la bourgeoise
A3: Code | B3: GRO_CDC_135
A4: Classe | B4: Bœuf (CUI.PV.BOEUF)
A5: Statut | B5: publie
A6: Verrouillée | B6: Non
A7: Source bibliographique
A8: Provenance
A10: Quantité de référence | B10: 1 pc
A11: Coût de revient (qt de référence) | B11: 532.09701
A12: Coût unitaire | B12: 532.09701
A14: Quantité demandée pour cet export | B14: 1 pc
A15: Coût de revient total pour cette quantité | B15: 532.09701
A17: Export généré le | B17: 23/09/2026 21:51
B18: CUIS.web — Portage du CUIS Clipper de 1992 par Palika & Bernard Vandendaele (créateur du moteur récursif d'origine)

Sheet Besoins
A1: Besoins matière
A2: Multiplicateur souhaité | B2: 1
A3: Quantité de référence | B3: 1 | C3: pc
A4: Quantité obtenue | B4: =$B$2*B3 -> 1 | C4: =C3 -> pc
A6: Code | B6: Matière première | C6: Classe | D6: Base (×1, modifiable) | E6: Quantité | F6: Unité | G6: Coût
A7: ALC-COGNAC | B7: Cognac VS (flambé, sauce) | C7: Spiritueux et liqueurs cuisine | D7: 0.2 | E7: =D7*$B$2 -> 0.2 | F7: lt | G7: =E7*28 -> 5.6
A8: VIN-ROUGE-CUI | B8: Vin rouge de cuisson (table) | C8: Vins et bières de cuisson | D8: 6 | E8: =D8*$B$2 -> 6 | F8: lt | G8: =E8*2.6 -> 15.6
A9: RNM100733 | B9: Lardons lardon cru fumé | C9: Charcuterie | D9: 3 | E9: =D9*$B$2 -> 3 | F9: kg | G9: =E9*8.96 -> 26.88
A10: 00000061 | B10: EAU | C10: Matières diverses (à trier) | D10: 11.8 | E10: =D10*$B$2 -> 11.8 | F10: lt | G10: =E10*0.003 -> 0.0354
A11: EPI-CLOU-GIROFLE | B11: Clous de girofle | C11: Épices en poudre et graines | D11: 5 | E11: =D11*$B$2 -> 5 | F11: kg | G11: =E11*25 -> 125
A12: EPI-MUSCADE-POW | B12: Noix de muscade moulue | C12: Épices en poudre et graines | D12: 0.001 | E12: =D12*$B$2 -> 0.001 | F12: kg | G12: =E12*20 -> 0.02
A13: EPI-POIVRE-NOIR | B13: Poivre noir moulu | C13: Épices en poudre et graines | D13: 0.007533 | E13: =D13*$B$2 -> 0.007533 | F13: kg | G13: =E13*12.5005531218 -> 0.094167
A14: HER-BOUQUET-G | B14: Bouquet garni sachet dose | C14: Herbes aromatiques séchées | D14: 1.000533 | E14: =D14*$B$2 -> 1.000533 | F14: kg | G14: =E14*14.0000046642 -> 14.007467
A15: KNORR-FBLIE-STD | B15: Fonds Brun Lié (Knorr Professional) | C15: Fonds déshydratés et poudres | D15: 0.2 | E15: =D15*$B$2 -> 0.2 | F15: kg | G15: =E15*0 -> 0
A16: HUI-TOURNESOL | B16: Huile de tournesol raffinée vrac | C16: Huiles végétales | D16: 0.5 | E16: =D16*$B$2 -> 0.5 | F16: lt | G16: =E16*1.05 -> 0.525
A17: BEU-DOUX | B17: Beurre doux 82% MG plaquette | C17: Beurres et margarines | D17: 0.525 | E17: =D17*$B$2 -> 0.525 | F17: kg | G17: =E17*5.2 -> 2.73
A18: RNM9740123 | B18: CAROTTE France cat.I botte | C18: Légumes | D18: 0.053333 | E18: =D18*$B$2 -> 0.053333 | F18: bte | G18: =E18*1.8000112501 -> 0.096
A19: RNM0400123 | B19: CÉLERI-BRANCHE vert France cat.I | C19: Légumes | D19: 0.042667 | E19: =D19*$B$2 -> 0.042667 | F19: kg | G19: =E19*1.7999859376 -> 0.0768
A20: RNM27820123 | B20: OIGNON jaune France cat.I 60-80mm | C20: Légumes | D20: 0.053333 | E20: =D20*$B$2 -> 0.053333 | F20: kg | G20: =E20*0.4000025 -> 0.021333
A21: RNM0200123 | B21: POIREAU France cat.I | C21: Légumes | D21: 0.106667 | E21: =D21*$B$2 -> 0.106667 | F21: kg | G21: =E21*0.8999971875 -> 0.096
A22: SEL-FIN | B22: Sel fin de cuisine | C22: Sels et condiments de base | D22: 0.179783 | E22: =D22*$B$2 -> 0.179783 | F22: kg | G22: =E22*0.3500006489 -> 0.062924
A23: SUC-BLANC | B23: Sucre blanc cristal sac 25 kg | C23: Sucres et édulcorants | D23: 0.2625 | E23: =D23*$B$2 -> 0.2625 | F23: kg | G23: =E23*0.82 -> 0.21525
A24: RNMS00812 | B24: Ail haché IQF | C24: Légumes surgelés | D24: 0.25 | E24: =D24*$B$2 -> 0.25 | F24: kg | G24: =E24*9.26 -> 2.315
A25: RNMS00751 | B25: Carottes en rondelles surgelées | C25: Légumes surgelés | D25: 2.5 | E25: =D25*$B$2 -> 2.5 | F25: kg | G25: =E25*2.17 -> 5.425
A26: RNMS00750 | B26: Jeunes carottes très fines surgelées | C26: Légumes surgelés | D26: 8 | E26: =D26*$B$2 -> 8 | F26: kg | G26: =E26*2.57 -> 20.56
A27: RNMS00780 | B27: Oignons émincés surgelés | C27: Légumes surgelés | D27: 2.5 | E27: =D27*$B$2 -> 2.5 | F27: kg | G27: =E27*3.89 -> 9.725
A28: RNMS00786 | B28: Petits oignons blancs surgelés | C28: Légumes surgelés | D28: 2.5 | E28: =D28*$B$2 -> 2.5 | F28: kg | G28: =E28*3.85 -> 9.625
A29: RNMS00116 | B29: Assortiment bourguignon sans os UE | C29: Viandes surgelées | D29: 16 | E29: =D29*$B$2 -> 16 | F29: kg | G29: =E29*18.02 -> 288.32
A30: 00002615 | B30: Collet de veau (piétrons, jarret) | C30: Veau | D30: 0.533333 | E30: =D30*$B$2 -> 0.533333 | F30: kg | G30: =E30*5.000003125 -> 2.666667
A31: 00002616 | B31: Os de veau (pieds, jarret) | C31: Veau | D31: 0.533333 | E31: =D31*$B$2 -> 0.533333 | F31: kg | G31: =E31*2.5000015625 -> 1.333333
A32: 00002605 | B32: Os et parures maigres de veau | C32: Veau | D32: 0.533333 | E32: =D32*$B$2 -> 0.533333 | F32: kg | G32: =E32*2.00000125 -> 1.066667
F33: Total | G33: =SUM(G7:G32) -> 0

Sheet Composition
A1: Niveau | B1: Composant | C1: Type | D1: Quantité (pour 1 pc) | E1: Unité | F1: Classe
A2: 0 | B2: Pièce de bœuf à la bourgeoise | C2: recette | D2: 1 | E2: pc | F2: Bœuf
A3: 1 | B3: ↳ Assortiment bourguignon sans os UE | C3: matiere | D3: 16 | E3: kg | F3: Viandes surgelées
A4: 1 | B4: ↳ Vin rouge de cuisson (table) | C4: matiere | D4: 6 | E4: lt | F4: Vins et bières de cuisson
A5: 1 | B5: ↳ CAROTTES GLACEES A BLANC | C5: recette | D5: 200 | E5: pc | F5: Garnitures et légumes collectivité
A6: 1 | B6: ↳ Fond brun de veau reconstitue (collectivite) | C6: recette | D6: 8 | E6: lt | F6: Préparations de base collectivité
A7: 2 | B7: ↳ Jeunes carottes très fines surgelées | C7: matiere | D7: 8 | E7: kg | F7: Légumes surgelés
A8: 2 | B8: ↳ EAU | C8: matiere | D8: 7.8 | E8: lt | F8: Matières diverses (à trier)
A9: 2 | B9: ↳ Fonds Brun Lié (Knorr Professional) | C9: matiere | D9: 0.2 | E9: kg | F9: Fonds déshydratés et poudres
A10: 2 | B10: ↳ Beurre doux 82% MG plaquette | C10: matiere | D10: 0.4 | E10: kg | F10: Beurres et margarines
A11: 2 | B11: ↳ Sel fin de cuisine | C11: matiere | D11: 0.1 | E11: kg | F11: Sels et condiments de base
A12: 2 | B12: ↳ Sucre blanc cristal sac 25 kg | C12: matiere | D12: 0.2 | E12: kg | F12: Sucres et édulcorants
A13: 1 | B13: ↳ Fond Blanc de Veau | C13: recette | D13: 4 | E13: lt | F13: Fonds et bouillons de base
... A40: 1 | B40: ↳ Cognac VS (flambé, sauce) | C40: matiere | D40: 0.2 | E40: lt | F40: Spiritueux et liqueurs cuisine

Sheet Procedure
A1: Recette | B1: # | C1: Verbe | D1: Étape | E1: Précision technique | F1: Durée
A2: Pièce de bœuf à la bourgeoise | B2: 1 | D2: Mise en place du poste de travail — Vérifiez les DLC, pesez les denrées, sélectionnez le matériel nécessaire. Désinfectez le matériel et le poste de travail suivant les protocoles.
A3: Pièce de bœuf à la bourgeoise | B3: 2 | D3: Préparations préliminaires — Déconditionnez les morceaux de bœuf suivant la procédure. Réservez au froid. Déconditionnez les carottes et les oignons surgelés. Réservez séparément au froid. Épluchez, lavez les gousses d'ail. Hachez l'ail. Réservez. Confectionnez le bouquet garni. Détaillez la poitrine fumée en lardons. Réservez au froid.
A4: Pièce de bœuf à la bourgeoise | B4: 3 | D4: Mariner la pièce de bœuf — La veille de la cuisson : dans un bac GN 2/1 en polycarbonate, tapissez le fond avec les carottes, les oignons, l'ail haché, le bouquet garni et les clous de girofle. Assaisonnez la pièce de viande. Déposez-la sur la garniture aromatique. Mouillez avec le vin rouge et le cognac. Couvrez et indiquez sur le couvercle la traçabilité de la viande et la date de mise en marinade. Réservez au froid.
A5: Pièce de bœuf à la bourgeoise | B5: 4 | D5: Rissoler la pièce de viande — Le jour de la cuisson, égouttez séparément la viande, la garniture aromatique et le liquide de la marinade. Épongez la viande. Dans une sauteuse, faites rissoler fortement à l'huile la pièce de viande sur toutes ses faces.
A6: Pièce de bœuf à la bourgeoise | B6: 5 | D6: Marquer la cuisson de la viande — Préchauffez le four sur la position chaleur mixte à +175°C. Dans un bac de cuisson, déposez la pièce de viande sur la garniture aromatique égouttée. Mouillez avec le vin de la marinade, le jus de veau lié et le fond blanc de veau. Ajoutez la noix de muscade. Piquez la sonde de cuisson dans le milieu de la pièce de viande, dans le sens de sa longueur. Couvrez. Enfournez et cuisez pendant 4 heures minimum (durée portée au-delà du texte source, pièce de bœuf -- ajustement Palika 2026-09-18). Atteignez +95/97°C au cœur de la viande. Au terme de la cuisson, découvrez, arrosez et laissez glacer la pièce de viande à +200°C en chaleur sèche. Vérifiez la cuisson. Respectez la procédure de fin de cuisson.
A7: Pièce de bœuf à la bourgeoise | B7: 6 | D7: Finir la préparation de la viande — Tranchez les morceaux de viande. Réservez les tranches dans des bacs GN 1/1 H 65. Arrosez les tranches avec du fond de braisage. Filmez pour éviter le dessèchement. Stockez en armoire chaude et maintenez à +63°C en attente de consommation. Réservez le fond de braisage dans un bac GN 1/2 H 250. Le fond doit avoir une consistance sirupeuse. Rectifiez l'assaisonnement et éventuellement la consistance avec un peu de fécule retardée. Glacez les petits oignons grelots à brun.
A8: Pièce de bœuf à la bourgeoise | B8: 7 | D8: Cuire la garniture — Cuisez les carottes glacées, au four, sur la position vapeur, pendant 10 minutes. Réservez les carottes, les lardons et les petits oignons glacés à brun dans un bac de cuisson. Mouillez avec du fond de cuisson. Passez quelques minutes au four. Rectifiez l'assaisonnement.
A9: Pièce de bœuf à la bourgeoise | B9: 8 | D9: Dresser et servir — Servez une tranche de bœuf, garnissez avec les carottes, les lardons et les petits oignons glacés à brun. Nappez de fond de braisage.
A10: CAROTTES GLACEES A BLANC | B10: 1 | D10: Mise en place du poste de travail — Verifier les DLC, peser les denrees, selectionner le materiel necessaire. Laver et desinfecter le materiel et le poste de travail en suivant les protocoles.
A11: CAROTTES GLACEES A BLANC | B11: 2 | D11: Preparations preliminaires — Deconditionner les jeunes carottes tres fines surgelees suivant la procedure.
A12: CAROTTES GLACEES A BLANC | B12: 3 | D12: Marquer la cuisson — Selon la technique de glacage a blanc (voir Fiche 169) : disposer les jeunes carottes entieres dans des bacs beurres, de facon a ce qu'elles ne se superposent pas. Mouiller avec de l'eau aux 3/4 de la hauteur des carottes. Saler. Etager les bacs sur l'echelle de cuisson. Enfourner et cuire a couvert. Surveiller attentivement la fin de cuisson pour eviter toute coloration. Au besoin, reduire la temperature du four. Les carottes doivent etre brillantes au terme de leur cuisson.
A13: CAROTTES GLACEES A BLANC | B13: 4 | D13: Decanter — Debarrasser delicatement les carottes directement sur le plat a garnir, ou bien reserver dans le bac de cuisson en attente d'utilisation.
A14: Fond brun de veau reconstitue (collectivite) | B14: 1 | C14: DISSOUDRE | D14: Délayer la poudre dans l'eau froide en fouettant, puis porter à ébullition en remuant régulièrement.
A15: Fond Blanc de Veau | B15: 1 | C15: CONCASSER | D15: Concasser les os et parures de veau — blanchir à l'eau froide | E15: Découper en morceaux — réunir dans une grande marmite — couvrir d'eau froide — porter à ébullition 3 à 4 minutes — rafraîchir
A16: Fond Blanc de Veau | B16: 2 | C16: ÉPLUCHER | D16: Rafraîchir les ingrédients de base à l'eau courante | E16: Bien rincer et égoutter dans une passoire — rincer le rondeau
A17: Fond Blanc de Veau | B17: 3 | C17: MARQUER | D17: Marquer le fond blanc en cuisson | E17: Replacer les ingrédients de base dans le récipient — mouiller avec de l'eau froide — porter à ébullition
A18: Fond Blanc de Veau | B18: 4 | C18: ÉCUMER | D18: Écumer soigneusement | E18: Écumer abondamment dès la première ébullition
A19: Fond Blanc de Veau | B19: 5 | C19: ÉPLUCHER | D19: Préparer les éléments de la garniture aromatique | E19: Éplucher et laver tous les légumes — tailler les carottes en tronçons — piquer ou clouter les oignons
A20: Fond Blanc de Veau | B20: 6 | C20: MOUILLER | D20: Ajouter la garniture aromatique dans le fond blanc
A21: PETITS OIGNONS GRELOTS GLACES A BRUN ET A BLANC | B21: 1 | D21: Mise en place du poste de travail — Verifier les DLC, peser les denrees, selectionner le materiel necessaire. Laver et desinfecter le materiel et le poste de travail en suivant les protocoles.
A22: PETITS OIGNONS GRELOTS GLACES A BRUN ET A BLANC | B22: 2 | D22: Preparations preliminaires — Deconditionner les petits oignons grelots suivant la procedure. Dans une calotte, faire fondre le beurre.
A23: PETITS OIGNONS GRELOTS GLACES A BRUN ET A BLANC | B23: 3 | D23: Pour le glacage a brun — Marquer la cuisson : Prechauffer le four sur la position chaleur seche a +150 degC. Enduire au pinceau, avec le beurre fondu, 2 bacs GN 1/1 H 45. Deposer les oignons grelots dans les deux bacs, de facon a ce qu'ils ne se superposent pas. Mouiller avec de l'eau aux 3/4 de la hauteur des petits oignons. Ajouter le sel fin et le sucre semoule. Etager les deux bacs sur l'echelle de cuisson. Enfourner et cuire a couvert, durant environ 10 a 15 minutes. En cours de cuisson, agiter les bacs, de facon a changer la position des petits oignons, afin d'obtenir une coloration uniforme. Surveiller attentivement la fin de cuisson. En fin de cuisson, l'eau doit etre completement evaporee et les petits oignons doivent avoir une coloration brune. Eventuellement, en fin de cuisson, si le besoin de coloration se faisait sentir, augmenter la chaleur du four a +175 degC quelques instants. Les petits oignons doivent etre au terme de leur cuisson, de couleur brune uniforme (effet produit par le sucre) et brillants (la brillance etant donnee par le beurre).
A24: PETITS OIGNONS GRELOTS GLACES A BRUN ET A BLANC | B24: 4 | D24: Decanter — Debarrasser delicatement les petits oignons directement sur le plat a garnir, ou bien reserver dans le bac de cuisson en attente d'utilisation.
A25: PETITS OIGNONS GRELOTS GLACES A BRUN ET A BLANC | B25: 5 | D25: Pour le glacage a blanc — La technique du glacage a blanc est identique a celle du glacage a brun. Surveiller attentivement le glacage en fin de cuisson pour eviter la coloration. Au besoin, reduire la temperature du four. Les petits oignons doivent etre blancs et brillants au terme de leur cuisson. NB : les techniques de glacage sont identiques pour les autres legumes (carottes, navets, etc.).

Sheet Carte imprimable
A1: Fiche technique — Pièce de bœuf à la bourgeoise
A2: ="GRO_CDC_135 · CUI.PV.BOEUF · référence : "&Besoins!B3&" "&Besoins!C3&" · multiplicateur réglable sur la feuille ""Besoins""" -> GRO_CDC_135 · CUI.PV.BOEUF · référence : 1 pc · multiplicateur réglable sur la feuille
A4: Pièce de bœuf à la bourgeoise GRO_CDC_135
A5: 1. | B5: =Procedure!D2 -> Mise en place du poste de travail — Vérifiez les DLC, pesez les denrées, sélectionnez le matériel nécessaire. Désinfectez le matériel et le poste de travail suivant les protocoles.
A6: 2. | B6: =Procedure!D3 -> Préparations préliminaires — Déconditionnez les morceaux de bœuf suivant la procédure. Réservez au froid. Déconditionnez les carottes et les oignons surgelés. Réservez séparément au froid. Épluchez, lavez les gousses d'ail. Hachez l'ail. Réservez. Confectionnez le bouquet garni. Détaillez la poitrine fumée en lardons. Réservez au froid.
B7: =Besoins!B9 -> Lardons lardon cru fumé | C7: =Besoins!E9 -> 3 | D7: =Besoins!F9 -> kg
A8: 3. | B8: =Procedure!D4 -> Mariner la pièce de bœuf — La veille de la cuisson : dans un bac GN 2/1 en polycarbonate, tapissez le fond avec les carottes, les oignons, l'ail haché, le bouquet garni et les clous de girofle. Assaisonnez la pièce de viande. Déposez-la sur la garniture aromatique. Mouillez avec le vin rouge et le cognac. Couvrez et indiquez sur le couvercle la traçabilité de la viande et la date de mise en marinade. Réservez au froid.
B9: =Besoins!B29 -> Assortiment bourguignon sans os UE | C9: =Besoins!E29 -> 16 | D9: =Besoins!F29 -> kg
B10: =Besoins!B8 -> Vin rouge de cuisson (table) | C10: =Besoins!E8 -> 6 | D10: =Besoins!F8 -> lt
B11: =Besoins!B25 -> Carottes en rondelles surgelées | C11: =Besoins!E25 -> 2.5 | D11: =Besoins!F25 -> kg
B12: =Besoins!B27 -> Oignons émincés surgelés | C12: =Besoins!E27 -> 2.5 | D12: =Besoins!F27 -> kg
B13: =Besoins!B24 -> Ail haché IQF | C13: =Besoins!E24 -> 0.25 | D13: =Besoins!F24 -> kg
B14: Bouquet garni sachet dose | C14: ='Besoins'!$B$2*1 -> 1 | D14: pc
B15: =Besoins!B11 -> Clous de girofle | C15: =Besoins!E11 -> 5 | D15: =Besoins!F11 -> pc
B16: Sel fin de cuisine | C16: ='Besoins'!$B$2*0.073 -> 0.073 | D16: kg
B17: Poivre noir moulu | C17: ='Besoins'!$B$2*0.007 -> 0.007 | D17: kg
B18: =Besoins!B7 -> Cognac VS (flambé, sauce) | C18: =Besoins!E7 -> 0.2 | D18: =Besoins!F7 -> lt
A19: 4. | B19: =Procedure!D5 -> Rissoler la pièce de viande — Le jour de la cuisson, égouttez séparément la viande, la garniture aromatique et le liquide de la marinade. Épongez la viande. Dans une sauteuse, faites rissoler fortement à l'huile la pièce de viande sur toutes ses faces.
B20: =Besoins!B16 -> Huile de tournesol raffinée vrac | C20: =Besoins!E16 -> 0.5 | D20: =Besoins!F16 -> lt
A21: 5. | B21: =Procedure!D6 -> Marquer la cuisson de la viande — Préchauffez le four sur la position chaleur mixte à +175°C. Dans un bac de cuisson, déposez la pièce de viande sur la garniture aromatique égouttée. Mouillez avec le vin de la marinade, le jus de veau lié et le fond blanc de veau. Ajoutez la noix de muscade. Piquez la sonde de cuisson dans le milieu de la pièce de viande, dans le sens de sa longueur. Couvrez. Enfournez et cuisez pendant 4 heures minimum (durée portée au-delà du texte source, pièce de bœuf -- ajustement Palika 2026-09-18). Atteignez +95/97°C au cœur de la viande. Au terme de la cuisson, découvrez, arrosez et laissez glacer la pièce de viande à +200°C en chaleur sèche. Vérifiez la cuisson. Respectez la procédure de fin de cuisson.
B22: Fond Blanc de Veau | C22: ='Besoins'!$B$2*4 -> 4 | D22: lt
B23: =Besoins!B12 -> Noix de muscade moulue | C23: =Besoins!E12 -> 0.001 | D23: =Besoins!F12 -> kg
B24: Fond brun de veau reconstitue (collectivite) | C24: ='Besoins'!$B$2*8 -> 8 | D24: lt
A25: 6. | B25: =Procedure!D7 -> Finir la préparation de la viande — Tranchez les morceaux de viande. Réservez les tranches dans des bacs GN 1/1 H 65. Arrosez les tranches avec du fond de braisage. Filmez pour éviter le dessèchement. Stockez en armoire chaude et maintenez à +63°C en attente de consommation. Réservez le fond de braisage dans un bac GN 1/2 H 250. Le fond doit avoir une consistance sirupeuse. Rectifiez l'assaisonnement et éventuellement la consistance avec un peu de fécule retardée. Glacez les petits oignons grelots à brun.
A26: 7. | B26: =Procedure!D8 -> Cuire la garniture — Cuisez les carottes glacées, au four, sur la position vapeur, pendant 10 minutes. Réservez les carottes, les lardons et les petits oignons glacés à brun dans un bac de cuisson. Mouillez avec du fond de cuisson. Passez quelques minutes au four. Rectifiez l'assaisonnement.
B27: CAROTTES GLACEES A BLANC | C27: ='Besoins'!$B$2*200 -> 200 | D27: pc
A28: 8. | B28: =Procedure!D9 -> Dresser et servir — Servez une tranche de bœuf, garnissez avec les carottes, les lardons et les petits oignons glacés à brun. Nappez de fond de braisage.
B29: PETITS OIGNONS GRELOTS GLACES A BRUN ET A BLANC | C29: ='Besoins'!$B$2*62.5 -> 62.5 | D29: pc
A31: ↳ CAROTTES GLACEES A BLANC GRO_CDC_169C
A32: 1. | B32: =Procedure!D10 -> Mise en place du poste de travail — Verifier les DLC, peser les denrees, selectionner le materiel necessaire. Laver et desinfecter le materiel et le poste de travail en suivant les protocoles.
A33: 2. | B33: =Procedure!D11 -> Preparations preliminaires — Deconditionner les jeunes carottes tres fines surgelees suivant la procedure.
B34: =Besoins!B26 -> Jeunes carottes très fines surgelées | C34: =Besoins!E26 -> 8 | D34: =Besoins!F26 -> kg
A35: 3. | B35: =Procedure!D12 -> Marquer la cuisson — Selon la technique de glacage a blanc (voir Fiche 169) : disposer les jeunes carottes entieres dans des bacs beurres, de facon a ce qu'elles ne se superposent pas. Mouiller avec de l'eau aux 3/4 de la hauteur des carottes. Saler. Etager les bacs sur l'echelle de cuisson. Enfourner et cuire a couvert. Surveiller attentivement la fin de cuisson pour eviter toute coloration. Au besoin, reduire la temperature du four. Les carottes doivent etre brillantes au terme de leur cuisson.
B36: Beurre doux 82% MG plaquette | C36: ='Besoins'!$B$2*0.4 -> 0.4 | D36: kg
B37: Sel fin de cuisine | C37: ='Besoins'!$B$2*0.1 -> 0.1 | D37: kg
B38: Sucre blanc cristal sac 25 kg | C38: ='Besoins'!$B$2*0.2 -> 0.2 | D38: kg
A39: 4. | B39: =Procedure!D13 -> Decanter — Debarrasser delicatement les carottes directement sur le plat a garnir, ou bien reserver dans le bac de cuisson en attente d'utilisation.
A41: ↳ Fond brun de veau reconstitue (collectivite) GRO-FOND-VEAU
A42: 1. | B42: ="[DISSOUDRE] "&Procedure!D14 -> [DISSOUDRE] Délayer la poudre dans l'eau froide en fouettant, puis porter à ébullition en remuant régulièrement.
B43: EAU | C43: ='Besoins'!$B$2*7.8 -> 7.8 | D43: lt
B44: =Besoins!B15 -> Fonds Brun Lié (Knorr Professional) | C44: =Besoins!E15 -> 0.2 | D44: =Besoins!F15 -> kg
A46: ↳ Fond Blanc de Veau 00002625
A47: 1. | B47: ="[CONCASSER] "&Procedure!D15 -> [CONCASSER] Concasser les os et parures de veau — blanchir à l'eau froide
B48: ="ℹ "&Procedure!E15 -> ℹ
A49: 2. | B49: ="[ÉPLUCHER] "&Procedure!D16 -> [ÉPLUCHER] Rafraîchir les ingrédients de base à l'eau courante
B50: ="ℹ "&Procedure!E16 -> ℹ
A51: 3. | B51: ="[MARQUER] "&Procedure!D17 -> [MARQUER] Marquer le fond blanc en cuisson
B52: ="ℹ "&Procedure!E17 -> ℹ
A53: 4. | B53: ="[ÉCUMER] "&Procedure!D18 -> [ÉCUMER] Écumer soigneusement
B54: ="ℹ "&Procedure!E18 -> ℹ
A55: 5. | B55: ="[ÉPLUCHER] "&Procedure!D19 -> [ÉPLUCHER] Préparer les éléments de la garniture aromatique
B56: ="ℹ "&Procedure!E19 -> ℹ
A57: 6. | B57: ="[MOUILLER] "&Procedure!D20 -> [MOUILLER] Ajouter la garniture aromatique dans le fond blanc
A59: ↳ PETITS OIGNONS GRELOTS GLACES A BRUN ET A BLANC GRO_CDC_169
A60: 1. | B60: =Procedure!D21 -> Mise en place du poste de travail — Verifier les DLC, peser les denrees, selectionner le materiel necessaire. Laver et desinfecter le materiel et le poste de travail en suivant les protocoles.
A61: 2. | B61: =Procedure!D22 -> Preparations preliminaires — Deconditionner les petits oignons grelots suivant la procedure. Dans une calotte, faire fondre le beurre.
B62: =Besoins!B28 -> Petits oignons blancs surgelés | C62: =Besoins!E28 -> 2.5 | D62: =Besoins!F28 -> kg
B63: Beurre doux 82% MG plaquette | C63: ='Besoins'!$B$2*0.125 -> 0.125 | D63: kg
A64: 3. | B64: =Procedure!D23 -> Pour le glacage a brun — Marquer la cuisson : Prechauffer le four sur la position chaleur seche a +150 degC. Enduire au pinceau, avec le beurre fondu, 2 bacs GN 1/1 H 45. Deposer les oignons grelots dans les deux bacs, de facon a ce qu'ils ne se superposent pas. Mouiller avec de l'eau aux 3/4 de la hauteur des petits oignons. Ajouter le sel fin et le sucre semoule. Etager les deux bacs sur l'echelle de cuisson. Enfourner et cuire a couvert, durant environ 10 a 15 minutes. En cours de cuisson, agiter les bacs, de facon a changer la position des petits oignons, afin d'obtenir une coloration uniforme. Surveiller attentivement la fin de cuisson. En fin de cuisson, l'eau doit etre completement evaporee et les petits oignons doivent avoir une coloration brune. Eventuellement, en fin de cuisson, si le besoin de coloration se faisait sentir, augmenter la chaleur du four a +175 degC quelques instants. Les petits oignons doivent etre au terme de leur cuisson, de couleur brune uniforme (effet produit par le sucre) et brillants (la brillance etant donnee par le beurre).
B65: Sucre blanc cristal sac 25 kg | C65: ='Besoins'!$B$2*0.0625 -> 0.0625 | D65: kg
B66: Sel fin de cuisine | C66: ='Besoins'!$B$2*0.00625 -> 0.00625 | D66: kg
A67: 4. | B67: =Procedure!D24 -> Decanter — Debarrasser delicatement les petits oignons directement sur le plat a garnir, ou bien reserver dans le bac de cuisson en attente d'utilisation.
A68: 5. | B68: =Procedure!D25 -> Pour le glacage a blanc — La technique du glacage a blanc est identique a celle du glacage a brun. Surveiller attentivement le glacage en fin de cuisson pour eviter la coloration. Au besoin, reduire la temperature du four. Les petits oignons doivent etre blancs et brillants au terme de leur cuisson. NB : les techniques de glacage sont identiques pour les autres legumes (carottes, navets, etc.).
A70: CUIS.web — Portage du CUIS Clipper de 1992 par Palika & Bernard Vandendaele (créateur du moteur récursif d'origine)
