Workbook

Sheet Fiche
A1: Fiche technique
A2: Nom | B2: SAUCE SUPRÊME (VOLAILLE)
A3: Code | B3: GRO_CDC_206SuVo
A4: Classe | B4: Sauces collectivité (GRO.SAUCES)
A5: Statut | B5: publie
A6: Verrouillée | B6: Non
A7: Source bibliographique
A8: Provenance
A10: Quantité de référence | B10: 100 pc
A11: Coût de revient (qt de référence) | B11: 13.2605
A12: Coût unitaire | B12: 0.132605
A14: Quantité demandée pour cet export | B14: 100 pc
A15: Coût de revient total pour cette quantité | B15: 13.2605
A17: Export généré le | B17: 23/09/2026 21:51
B18: CUIS.web — Portage du CUIS Clipper de 1992 par Palika & Bernard Vandendaele (créateur du moteur récursif d'origine)

Sheet Besoins
A1: Besoins matière
A2: Multiplicateur souhaité | B2: 1
A3: Quantité de référence | B3: 100 | C3: pc
A4: Quantité obtenue | B4: =$B$2*B3 -> 100 | C4: =C3 -> pc
A6: Code | B6: Matière première | C6: Classe | D6: Base (×1, modifiable) | E6: Quantité | F6: Unité | G6: Coût
A7: VIN-BLANC-CUI | B7: Vin blanc sec de cuisson | C7: Vins et bières de cuisson | D7: 1.6 | E7: =D7*$B$2 -> 1.6 | F7: lt | G7: =E7*2.8 -> 4.48
A8: 00000061 | B8: EAU | C8: Matières diverses (à trier) | D8: 6.2 | E8: =D8*$B$2 -> 6.2 | F8: lt | G8: =E8*0.003 -> 0.0186
A9: 00001743 | B9: farine de blé tamisée type 55 | C9: Épicerie salée | D9: 0.325 | E9: =D9*$B$2 -> 0.325 | F9: pc | G9: =E9*0 -> 0
A10: EPI-MUSCADE-POW | B10: Noix de muscade moulue | C10: Épices en poudre et graines | D10: 0.002 | E10: =D10*$B$2 -> 0.002 | F10: kg | G10: =E10*20 -> 0.04
A11: EPI-PIMENT-CAYE | B11: Piment de Cayenne | C11: Épices en poudre et graines | D11: 0.002 | E11: =D11*$B$2 -> 0.002 | F11: kg | G11: =E11*9.8 -> 0.0196
A12: EPI-POIVRE-BLAN | B12: Poivre blanc moulu | C12: Épices en poudre et graines | D12: 0.006 | E12: =D12*$B$2 -> 0.006 | F12: kg | G12: =E12*14.8 -> 0.0888
A13: KNORR-FBLIE-STD | B13: Fonds Brun Lié (Knorr Professional) | C13: Fonds déshydratés et poudres | D13: 0.2 | E13: =D13*$B$2 -> 0.2 | F13: kg | G13: =E13*0 -> 0
A14: BEU-CUISINE | B14: Beurre de cuisine bloc 10 kg | C14: Beurres et margarines | D14: 0.325 | E14: =D14*$B$2 -> 0.325 | F14: kg | G14: =E14*4.9 -> 1.5925
A15: BEU-DOUX | B15: Beurre doux 82% MG plaquette | C15: Beurres et margarines | D15: 0.5 | E15: =D15*$B$2 -> 0.5 | F15: kg | G15: =E15*5.2 -> 2.6
A16: CRE-FRAICHE-LI | B16: Crème fraîche liquide 15% MG allégée | C16: Crèmes fraîches et laitières | D16: 2 | E16: =D16*$B$2 -> 2 | F16: lt | G16: =E16*2.2 -> 4.4
A17: SEL-FIN | B17: Sel fin de cuisine | C17: Sels et condiments de base | D17: 0.06 | E17: =D17*$B$2 -> 0.06 | F17: kg | G17: =E17*0.35 -> 0.021
F18: Total | G18: =SUM(G7:G17) -> 0

Sheet Composition
A1: Niveau | B1: Composant | C1: Type | D1: Quantité (pour 100 pc) | E1: Unité | F1: Classe
A2: 0 | B2: SAUCE SUPRÊME (VOLAILLE) | C2: recette | D2: 100 | E2: pc | F2: Sauces collectivité
A3: 1 | B3: ↳ Fond de volaille au vin blanc (collectivité) | C3: recette | D3: 8 | E3: lt | F3: Préparations de base collectivité
A4: 2 | B4: ↳ EAU | C4: matiere | D4: 6.2 | E4: lt | F4: Matières diverses (à trier)
A5: 2 | B5: ↳ Vin blanc sec de cuisson | C5: matiere | D5: 1.6 | E5: lt | F5: Vins et bières de cuisson
A6: 2 | B6: ↳ Fonds Brun Lié (Knorr Professional) | C6: matiere | D6: 0.2 | E6: kg | F6: Fonds déshydratés et poudres
A7: 1 | B7: ↳ Sel fin de cuisine | C7: matiere | D7: 0.06 | E7: kg | F7: Sels et condiments de base
A8: 1 | B8: ↳ Piment de Cayenne | C8: matiere | D8: 0.002 | E8: kg | F8: Épices en poudre et graines
A9: 1 | B9: ↳ Poivre blanc moulu | C9: matiere | D9: 0.006 | E9: kg | F9: Épices en poudre et graines
A10: 1 | B10: ↳ Noix de muscade moulue | C10: matiere | D10: 0.002 | E10: kg | F10: Épices en poudre et graines
A11: 1 | B11: ↳ Roux Blanc | C11: recette | D11: 0.65 | E11: kg | F11: Roux et liaisons de base
A12: 2 | B12: ↳ Beurre de cuisine bloc 10 kg | C12: matiere | D12: 0.325 | E12: kg | F12: Beurres et margarines
A13: 2 | B13: ↳ farine de blé tamisée type 55 | C13: matiere | D13: 0.325 | E13: kg | F13: Épicerie salée
... A15: 1 | B15: ↳ Beurre doux 82% MG plaquette | C15: matiere | D15: 0.5 | E15: kg | F15: Beurres et margarines

Sheet Procedure
A1: Recette | B1: # | C1: Verbe | D1: Étape | E1: Précision technique | F1: Durée
A2: SAUCE SUPRÊME (VOLAILLE) | B2: 1 | D2: Mise en place du poste de travail — Vérifier les D.L.C., peser les denrées, sélectionner le matériel. Désinfecter le matériel et le poste de travail suivant les protocoles.
A3: SAUCE SUPRÊME (VOLAILLE) | B3: 2 | D3: Réduire de 2 litres le fond blanc de la recette de base.
A4: SAUCE SUPRÊME (VOLAILLE) | B4: 3 | D4: Ajouter 2 litres de crème fraîche et 500 g de beurre en liaison terminale. Monter et émulsionner la sauce au mixeur.
A5: Fond de volaille au vin blanc (collectivité) | B5: 1 | D5: Réhydrater la poudre déshydratée dans l'eau chaude puis ajouter le vin blanc. Porter à ébullition légère et laisser réduire quelques minutes.
A6: Roux Blanc | B6: 1 | C6: METTRE EN PLACE | D6: Mettre en place — Peser, mesurer et contrôler les denrées. Tamiser la farine. Découper le beurre en parcelles.
A7: Roux Blanc | B7: 2 | C7: ÉTUVER | D7: Réaliser le roux — Faire fondre le beurre en parcelles dans une sauteuse suffisamment grande. Ajouter la farine tamisée dès que le beurre est fondu. Mélanger à l'aide d'une spatule ou d'un fouet à sauce jusqu'à obtenir un mélange lisse et homogène.
A8: Roux Blanc | B8: 3 | C8: RÉDUIRE | D8: Cuire le roux blanc — Cuire très doucement à feu réduit sans arrêter de mélanger. Arrêter la cuisson lorsqu'il blanchit et devient mousseux — on dit alors qu'il « fleurit ». | E8: 3 à 4 min
A9: Roux Blanc | B9: 4 | C9: REFROIDIR | D9: Refroidir rapidement — Retirer la sauteuse du feu. Si nécessaire, plonger le fond dans une plaque d'eau froide pour stopper la cuisson.

Sheet Carte imprimable
A1: Fiche technique — SAUCE SUPRÊME (VOLAILLE)
A2: ="GRO_CDC_206SuVo · GRO.SAUCES · référence : "&Besoins!B3&" "&Besoins!C3&" · multiplicateur réglable sur la feuille ""Besoins""" -> GRO_CDC_206SuVo · GRO.SAUCES · référence : 100 pc · multiplicateur réglable sur la feuille
A4: SAUCE SUPRÊME (VOLAILLE) GRO_CDC_206SuVo
A5: 1. | B5: =Procedure!D2 -> Mise en place du poste de travail — Vérifier les D.L.C., peser les denrées, sélectionner le matériel. Désinfecter le matériel et le poste de travail suivant les protocoles.
A6: 2. | B6: =Procedure!D3 -> Réduire de 2 litres le fond blanc de la recette de base.
B7: Fond de volaille au vin blanc (collectivité) | C7: ='Besoins'!$B$2*8 -> 8 | D7: lt
B8: =Besoins!B17 -> Sel fin de cuisine | C8: =Besoins!E17 -> 0.06 | D8: =Besoins!F17 -> kg
B9: =Besoins!B11 -> Piment de Cayenne | C9: =Besoins!E11 -> 0.002 | D9: =Besoins!F11 -> kg
B10: =Besoins!B12 -> Poivre blanc moulu | C10: =Besoins!E12 -> 0.006 | D10: =Besoins!F12 -> kg
B11: =Besoins!B10 -> Noix de muscade moulue | C11: =Besoins!E10 -> 0.002 | D11: =Besoins!F10 -> kg
A12: 3. | B12: =Procedure!D4 -> Ajouter 2 litres de crème fraîche et 500 g de beurre en liaison terminale. Monter et émulsionner la sauce au mixeur.
B13: =Besoins!B16 -> Crème fraîche liquide 15% MG allégée | C13: =Besoins!E16 -> 2 | D13: =Besoins!F16 -> lt
B14: =Besoins!B15 -> Beurre doux 82% MG plaquette | C14: =Besoins!E15 -> 0.5 | D14: =Besoins!F15 -> kg
A16: ↳ Fond de volaille au vin blanc (collectivité) GRO-FONDV-VOLAIL
A17: 1. | B17: =Procedure!D5 -> Réhydrater la poudre déshydratée dans l'eau chaude puis ajouter le vin blanc. Porter à ébullition légère et laisser réduire quelques minutes.
B18: =Besoins!B8 -> EAU | C18: =Besoins!E8 -> 6.2 | D18: =Besoins!F8 -> lt
B19: =Besoins!B7 -> Vin blanc sec de cuisson | C19: =Besoins!E7 -> 1.6 | D19: =Besoins!F7 -> lt
B20: =Besoins!B13 -> Fonds Brun Lié (Knorr Professional) | C20: =Besoins!E13 -> 0.2 | D20: =Besoins!F13 -> kg
A22: ↳ Roux Blanc 00SAU_REC001
A23: 1. | B23: ="[METTRE EN PLACE] "&Procedure!D6 -> [METTRE EN PLACE] Mettre en place — Peser, mesurer et contrôler les denrées. Tamiser la farine. Découper le beurre en parcelles.
B24: =Besoins!B14 -> Beurre de cuisine bloc 10 kg | C24: =Besoins!E14 -> 0.325 | D24: =Besoins!F14 -> kg
B25: =Besoins!B9 -> farine de blé tamisée type 55 | C25: =Besoins!E9 -> 0.325 | D25: =Besoins!F9 -> kg
A26: 2. | B26: ="[ÉTUVER] "&Procedure!D7 -> [ÉTUVER] Réaliser le roux — Faire fondre le beurre en parcelles dans une sauteuse suffisamment grande. Ajouter la farine tamisée dès que le beurre est fondu. Mélanger à l'aide d'une spatule ou d'un fouet à sauce jusqu'à obtenir un mélange lisse et homogène.
B27: =Besoins!B14 -> Beurre de cuisine bloc 10 kg | C27: =Besoins!E14 -> 0.325 | D27: =Besoins!F14 -> kg
B28: =Besoins!B9 -> farine de blé tamisée type 55 | C28: =Besoins!E9 -> 0.325 | D28: =Besoins!F9 -> kg
A29: 3. | B29: ="[RÉDUIRE] "&Procedure!D8 -> [RÉDUIRE] Cuire le roux blanc — Cuire très doucement à feu réduit sans arrêter de mélanger. Arrêter la cuisson lorsqu'il blanchit et devient mousseux — on dit alors qu'il « fleurit ».
B30: ="ℹ "&Procedure!E8 -> ℹ
A31: 4. | B31: ="[REFROIDIR] "&Procedure!D9 -> [REFROIDIR] Refroidir rapidement — Retirer la sauteuse du feu. Si nécessaire, plonger le fond dans une plaque d'eau froide pour stopper la cuisson.
A33: CUIS.web — Portage du CUIS Clipper de 1992 par Palika & Bernard Vandendaele (créateur du moteur récursif d'origine)
