Workbook

Sheet Besoins
A1: Besoins matière
A2: Multiplicateur souhaité | B2: 1
A3: Quantité de référence | B3: 100 | C3: pc
A4: Quantité obtenue | B4: =$B$2*B3 -> 100 | C4: =C3 -> pc
A6: Code | B6: Matière première | C6: Classe | D6: Base (×1, modifiable) | E6: Quantité | F6: Unité | G6: Coût
A7: 00000054 | B7: CITRON PULCO (JUS) | C7: FRUIT FRAIS | D7: 0.5 | E7: =D7*$B$2 -> 0.5 | F7: lt | G7: =E7*3.6741428571 -> 1.837071
A8: PIMENT-MANJAK | B8: Piment Bonda Man Jak (habanero antillais) | C8: Épices en poudre et graines | D8: 1 | E8: =D8*$B$2 -> 1 | F8: pc | G8: =E8*0.4 -> 0.4
A9: RNME101403 | B9: Huile olive vierge extra bidon 5L | C9: Assaisonnements et corps gras | D9: 0.2 | E9: =D9*$B$2 -> 0.2 | F9: u | G9: =E9*65.22 -> 13.044
A10: AVOCAT-PC | B10: Avocat frais (piece) | C10: Fruits | D10: 50 | E10: =D10*$B$2 -> 50 | F10: pc | G10: =E10*0.9 -> 45
A11: CITRON-VERT-FR | B11: Citron vert (fruit entier) | C11: Légumes | D11: 0.48 | E11: =D11*$B$2 -> 0.48 | F11: kg | G11: =E11*5.5 -> 2.64
A12: CIVE-ANTILLAISE | B12: Cive (oignon pays antillais) | C12: Légumes | D12: 0.33 | E12: =D12*$B$2 -> 0.33 | F12: bte | G12: =E12*4.5 -> 1.485
A13: RNM6520160 | B13: PERSIL simple France botte | C13: Légumes | D13: 0.2 | E13: =D13*$B$2 -> 0.2 | F13: bte | G13: =E13*4.5 -> 0.9
A14: RNMS00812 | B14: Ail haché IQF | C14: Légumes surgelés | D14: 0.12 | E14: =D14*$B$2 -> 0.12 | F14: kg | G14: =E14*9.26 -> 1.1112
A15: RNMS00813 | B15: Échalotte hachée IQF | C15: Légumes surgelés | D15: 0.5 | E15: =D15*$B$2 -> 0.5 | F15: kg | G15: =E15*6.96 -> 3.48
A16: RNMS00865 | B16: Tomates en dés surgelées IQF | C16: Légumes surgelés | D16: 2 | E16: =D16*$B$2 -> 2 | F16: kg | G16: =E16*2.92 -> 5.84
A17: RNMS00440 | B17: Filets de morue dessalée | C17: Poissons et fruits de mer surgelés | D17: 10 | E17: =D17*$B$2 -> 10 | F17: kg | G17: =E17*19.92 -> 199.2
F18: Total | G18: =SUM(G7:G17) -> 0

Sheet Procedure
A1: Recette | B1: # | C1: Verbe | D1: Étape | E1: Précision technique | F1: Durée
A2: CHIQUETAILLE DE MORUE | B2: 1 | D2: Vérifier les D.L.C., peser les denrées, sélectionner le matériel nécessaire. Désinfecter le matériel et le poste de travail suivant les protocoles.
A3: CHIQUETAILLE DE MORUE | B3: 2 | D3: Laver à grande eau les filets de morue. Réserver au froid. Éplucher, laver et désinfecter les végétaux suivant les protocoles. Épépiner le piment en prenant soin de vous protéger avec des gants à usage unique. Hacher finement le piment. Réserver le piment dans une calotte qui servira ultérieurement à la confection de la vinaigrette. Ciseler finement la cive. Réserver dans la calotte à vinaigrette. Au cutter, hacher le persil. Réserver dans la calotte à vinaigrette. Couper les avocats en deux, et citronner la chair. Réserver au froid dans 1 bac GN 1/1 H 250 en polycarbonate (réservé pour la garniture, étape 5).
A4: CHIQUETAILLE DE MORUE | B4: 3 | D4: Préchauffer le four sur la position vapeur. Disposer les filets de morue sur 5 bacs GN 1/1 H 35 perforés. Étager les bacs sur l'échelle de cuisson. Enfourner et cuire les filets de morue à la vapeur durant 7 minutes environ. Refroidir les filets suivant la procédure. Effeuiller la chair de morue. Réserver au froid en attente d'utilisation, dans une bassine assez grande pour prévoir ultérieurement son assaisonnement. | E4: Four position vapeur, 7 min | F4: 7 min (cuisson)
A5: CHIQUETAILLE DE MORUE | B5: 4 | D5: Dans la calotte, mélanger les épices et les aromates avec le jus de citron vert et l'huile. Emulsionner l'ensemble des éléments. Vérifier et rectifier l'assaisonnement.
A6: CHIQUETAILLE DE MORUE | B6: 5 | D6: Mélanger la chair de la morue effeuillée et la vinaigrette. Rectifier l'assaisonnement (le sel n'a pas été prévu dans la recette en raison des filets de morue, ajuster le besoin en sel le cas échéant).
A7: CHIQUETAILLE DE MORUE | B7: 6 | D7: Dresser la chiquetaille de morue à l'assiette ou en ravier. Parsemer de dés de tomate et décorer de 2 quartiers d'avocats. On peut dresser la chiquetaille sur quelques feuilles de salade verte.
A8: CHIQUETAILLE DE MORUE | B8: 7 | D8: On peut adjoindre aux avocats préalablement réduits en purée, 1/2 litre de crème fleurette montée, afin d'obtenir une mousse d'avocats. Cette mousse d'avocats sera dressée à la poche munie d'une douille cannelée.

Sheet Arborescence FT
A1: Niveau | B1: Composant | C1: Type | D1: Quantité (× multiplicateur, voir feuille Besoins) | E1: Unité
A2: 0 | B2: CHIQUETAILLE DE MORUE | C2: recette | D2: ='Besoins'!$B$2*100 -> 100 | E2: pc
A3: 1 | B3: ↳ Filets de morue dessalée | C3: matiere | D3: ='Besoins'!$B$2*10 -> 10 | E3: kg
A4: 1 | B4: ↳ Ail haché IQF | C4: matiere | D4: ='Besoins'!$B$2*0.12 -> 0.12 | E4: kg
A5: 1 | B5: ↳ Piment Bonda Man Jak (habanero antillais) | C5: matiere | D5: ='Besoins'!$B$2*1 -> 1 | E5: pc
A6: 1 | B6: ↳ Cive (oignon pays antillais) | C6: matiere | D6: ='Besoins'!$B$2*0.33 -> 0.33 | E6: kg
A7: 1 | B7: ↳ Citron vert (fruit entier) | C7: matiere | D7: ='Besoins'!$B$2*0.48 -> 0.48 | E7: kg
A8: 1 | B8: ↳ Échalotte hachée IQF | C8: matiere | D8: ='Besoins'!$B$2*0.5 -> 0.5 | E8: kg
A9: 1 | B9: ↳ PERSIL simple France botte | C9: matiere | D9: ='Besoins'!$B$2*0.2 -> 0.2 | E9: kg
A10: 1 | B10: ↳ CITRON PULCO (JUS) | C10: matiere | D10: ='Besoins'!$B$2*0.5 -> 0.5 | E10: lt
A11: 1 | B11: ↳ HUILE OLIVE (L) (conv.) | C11: conversion | D11: ='Besoins'!$B$2*1 -> 1 | E11: lt
A12: 1 | B12: ↳ Tomates en dés surgelées IQF | C12: matiere | D12: ='Besoins'!$B$2*2 -> 2 | E12: kg
A13: 1 | B13: ↳ Avocat frais (piece) | C13: matiere | D13: ='Besoins'!$B$2*50 -> 50 | E13: pc

Sheet Carte imprimable
A1: Fiche technique — CHIQUETAILLE DE MORUE
A2: ="GRO_CDC_002 · GRO.ENT.FR · référence : "&Besoins!B3&" "&Besoins!C3&" · multiplicateur réglable sur la feuille ""Besoins""" -> GRO_CDC_002 · GRO.ENT.FR · référence : 100 pc · multiplicateur réglable sur la feuille
A4: CHIQUETAILLE DE MORUE GRO_CDC_002
A5: 1. | B5: =Procedure!D2 -> Vérifier les D.L.C., peser les denrées, sélectionner le matériel nécessaire. Désinfecter le matériel et le poste de travail suivant les protocoles.
A6: 2. | B6: =Procedure!D3 -> Laver à grande eau les filets de morue. Réserver au froid. Éplucher, laver et désinfecter les végétaux suivant les protocoles. Épépiner le piment en prenant soin de vous protéger avec des gants à usage unique. Hacher finement le piment. Réserver le piment dans une calotte qui servira ultérieurement à la confection de la vinaigrette. Ciseler finement la cive. Réserver dans la calotte à vinaigrette. Au cutter, hacher le persil. Réserver dans la calotte à vinaigrette. Couper les avocats en deux, et citronner la chair. Réserver au froid dans 1 bac GN 1/1 H 250 en polycarbonate (réservé pour la garniture, étape 5).
B7: =Besoins!B17 -> Filets de morue dessalée | C7: =Besoins!E17 -> 10 | D7: =Besoins!F17 -> kg
B8: =Besoins!B14 -> Ail haché IQF | C8: =Besoins!E14 -> 0.12 | D8: =Besoins!F14 -> kg
B9: =Besoins!B8 -> Piment Bonda Man Jak (habanero antillais) | C9: =Besoins!E8 -> 1 | D9: =Besoins!F8 -> pc
B10: =Besoins!B12 -> Cive (oignon pays antillais) | C10: =Besoins!E12 -> 0.33 | D10: =Besoins!F12 -> kg
B11: =Besoins!B11 -> Citron vert (fruit entier) | C11: =Besoins!E11 -> 0.48 | D11: =Besoins!F11 -> kg
B12: =Besoins!B15 -> Échalotte hachée IQF | C12: =Besoins!E15 -> 0.5 | D12: =Besoins!F15 -> kg
B13: =Besoins!B13 -> PERSIL simple France botte | C13: =Besoins!E13 -> 0.2 | D13: =Besoins!F13 -> kg
B14: =Besoins!B10 -> Avocat frais (piece) | C14: =Besoins!E10 -> 50 | D14: =Besoins!F10 -> pc
A15: 3. | B15: =Procedure!D4 -> Préchauffer le four sur la position vapeur. Disposer les filets de morue sur 5 bacs GN 1/1 H 35 perforés. Étager les bacs sur l'échelle de cuisson. Enfourner et cuire les filets de morue à la vapeur durant 7 minutes environ. Refroidir les filets suivant la procédure. Effeuiller la chair de morue. Réserver au froid en attente d'utilisation, dans une bassine assez grande pour prévoir ultérieurement son assaisonnement.
B16: ="ℹ "&Procedure!E4 -> ℹ
A17: 4. | B17: =Procedure!D5 -> Dans la calotte, mélanger les épices et les aromates avec le jus de citron vert et l'huile. Emulsionner l'ensemble des éléments. Vérifier et rectifier l'assaisonnement.
B18: =Besoins!B7 -> CITRON PULCO (JUS) | C18: =Besoins!E7 -> 0.5 | D18: =Besoins!F7 -> lt
B19: HUILE OLIVE (L) (conv.) | C19: ='Besoins'!$B$2*1 -> 1 | D19: lt
A20: 5. | B20: =Procedure!D6 -> Mélanger la chair de la morue effeuillée et la vinaigrette. Rectifier l'assaisonnement (le sel n'a pas été prévu dans la recette en raison des filets de morue, ajuster le besoin en sel le cas échéant).
A21: 6. | B21: =Procedure!D7 -> Dresser la chiquetaille de morue à l'assiette ou en ravier. Parsemer de dés de tomate et décorer de 2 quartiers d'avocats. On peut dresser la chiquetaille sur quelques feuilles de salade verte.
B22: =Besoins!B16 -> Tomates en dés surgelées IQF | C22: =Besoins!E16 -> 2 | D22: =Besoins!F16 -> kg
A23: 7. | B23: =Procedure!D8 -> On peut adjoindre aux avocats préalablement réduits en purée, 1/2 litre de crème fleurette montée, afin d'obtenir une mousse d'avocats. Cette mousse d'avocats sera dressée à la poche munie d'une douille cannelée.
A25: CUIS.web — Portage du CUIS Clipper de 1992 par Palika & Bernard Vandendaele (créateur du moteur récursif d'origine)
