Workbook

Sheet Fiche
A1: Fiche technique
A2: Nom | B2: Pate a Savarins (Wittamer et Ecole Lenotre)
A3: Code | B3: C85.PATE.SAVARIN
A4: Classe | B4: Pâtes poussées et levées (PAT.PATES.POUSSEES)
A5: Statut | B5: publie
A6: Verrouillée | B6: Oui — Corpus PAL.CAH85 — audité et corrigé, verrouillage Chapitre 5
A7: Source bibliographique | B7: Cahier professionnel 1985-86 (PAL.CAH85)
A8: Provenance
A10: Quantité de référence | B10: 815 gr
A11: Coût de revient (qt de référence) | B11: 3.2540183
A12: Coût unitaire | B12: 0.0039926605
A14: Quantité demandée pour cet export | B14: 815 gr
A15: Coût de revient total pour cette quantité | B15: 3.2540183
A17: Export généré le | B17: 24/09/2026 16:55
B18: CUIS.web — Portage du CUIS Clipper de 1992 par Palika & Bernard Vandendaele (créateur du moteur récursif d'origine)

Sheet Besoins
A1: Besoins matière
A2: Multiplicateur souhaité | B2: 1
A3: Quantité de référence | B3: 815 | C3: gr
A4: Quantité obtenue | B4: =$B$2*B3 -> 815 | C4: =C3 -> gr
A6: Code | B6: Matière première | C6: Classe | D6: Base (×1, modifiable) | E6: Quantité | F6: Unité | G6: Coût
A7: 00000139 | B7: FARINE (000) | C7: Eléments divers | D7: 0.45 | E7: =D7*$B$2 -> 0.45 | F7: kg | G7: =E7*0.489836 -> 0.220426
A8: 00000048 | B8: BEURRE | C8: Produits frais | D8: 0.1 | E8: =D8*$B$2 -> 0.1 | F8: kg | G8: =E8*3.9514 -> 0.39514
A9: 00000224 | B9: CITRON | C9: FRUIT FRAIS | D9: 1 | E9: =D9*$B$2 -> 1 | F9: kg | G9: =E9*1.09074 -> 1.09074
A10: 00000047 | B10: OEUF A3 (PRIX) | C10: Produits laitiers | D10: 5 | E10: =D10*$B$2 -> 5 | F10: pc | G10: =E10*0.27 -> 1.35
A11: 00000033 | B11: SEL | C11: Matières diverses (à trier) | D11: 0.005 | E11: =D11*$B$2 -> 0.005 | F11: kg | G11: =E11*0.186416 -> 0.000932
A12: 00000051 | B12: LAIT | C12: Produits laitiers | D12: 0.2 | E12: =D12*$B$2 -> 0.2 | F12: lt | G12: =E12*0.5999 -> 0.11998
A13: LEV-FRAICHE | B13: Levure fraîche de boulanger | C13: Levures et agents levants | D13: 0.02 | E13: =D13*$B$2 -> 0.02 | F13: kg | G13: =E13*2.2 -> 0.044
A14: SUC-BLANC | B14: Sucre blanc cristal sac 25 kg | C14: Sucres et édulcorants | D14: 0.04 | E14: =D14*$B$2 -> 0.04 | F14: kg | G14: =E14*0.82 -> 0.0328
F15: Total | G15: =SUM(G7:G14) -> 0

Sheet Composition
A1: Niveau | B1: Composant | C1: Type | D1: Quantité (pour 815 gr) | E1: Unité | F1: Classe
A2: 0 | B2: Pate a Savarins (Wittamer et Ecole Lenotre) | C2: recette | D2: 815 | E2: gr | F2: Pâtes poussées et levées
A3: 1 | B3: ↳ LAIT | C3: matiere | D3: 0.2 | E3: lt | F3: Produits laitiers
A4: 1 | B4: ↳ Levure fraîche de boulanger | C4: matiere | D4: 0.02 | E4: kg | F4: Levures et agents levants
A5: 1 | B5: ↳ FARINE (000) | C5: matiere | D5: 0.45 | E5: kg | F5: Eléments divers
A6: 1 | B6: ↳ Sucre blanc cristal sac 25 kg | C6: matiere | D6: 0.04 | E6: kg | F6: Sucres et édulcorants
A7: 1 | B7: ↳ OEUF (P) | C7: recette | D7: 5 | E7: pc | F7: Conversions oeufs et ovoproduits
A8: 2 | B8: ↳ OEUF (ml) | C8: recette | D8: 0.275 | E8: lt | F8: Conversions oeufs et ovoproduits
A9: 3 | B9: ↳ OEUF A3 (PRIX) | C9: matiere | D9: 5 | E9: pc | F9: Produits laitiers
A10: 1 | B10: ↳ CITRON (P) | C10: recette | D10: 1 | E10: pc | F10: Conversions fruits frais (P→K)
A11: 2 | B11: ↳ CITRON | C11: matiere | D11: 1 | E11: kg | F11: FRUIT FRAIS
A12: 1 | B12: ↳ SEL | C12: matiere | D12: 0.005 | E12: kg | F12: Matières diverses (à trier)
A13: 1 | B13: ↳ BEURRE | C13: matiere | D13: 0.1 | E13: kg | F13: Produits frais

Sheet Procedure
A1: Recette | B1: # | C1: Verbe | D1: Étape | E1: Précision technique | F1: Durée
A2: Pate a Savarins (Wittamer et Ecole Lenotre) | B2: 1 | C2: INCORPORER | D2: Tiedir le lait, ajouter la levure
A3: Pate a Savarins (Wittamer et Ecole Lenotre) | B3: 2 | C3: INCORPORER | D3: Ajouter la farine de gruau, sucre, oeufs, zeste de citron, sel
A4: Pate a Savarins (Wittamer et Ecole Lenotre) | B4: 3 | C4: INCORPORER | D4: A la fin ajouter le beurre noisette
A5: Pate a Savarins (Wittamer et Ecole Lenotre) | B5: 4 | C5: PÉTRIR | D5: Petrir a la feuille du melangeur
A6: Pate a Savarins (Wittamer et Ecole Lenotre) | B6: 5 | C6: DRESSER | D6: Dresser a la poche, douille N.7, en moule beurre
A7: Pate a Savarins (Wittamer et Ecole Lenotre) | B7: 6 | C7: ÉTUVER | D7: Pousser a l'etuve 30C, cuire sur plaque chaude 180C, demouler a chaud
A8: Pate a Savarins (Wittamer et Ecole Lenotre) | B8: 7 | D8: Donne environ 60 pieces de 40gr

Sheet Carte imprimable
A1: Fiche technique — Pate a Savarins (Wittamer et Ecole Lenotre)
A2: ="C85.PATE.SAVARIN · PAT.PATES.POUSSEES · référence : "&Besoins!B3&" "&Besoins!C3&" · multiplicateur réglable sur la feuille ""Besoins""" -> C85.PATE.SAVARIN · PAT.PATES.POUSSEES · référence : 815 gr · multiplicateur réglable sur la feuille
A4: Pate a Savarins (Wittamer et Ecole Lenotre) C85.PATE.SAVARIN
A5: 1. | B5: ="[INCORPORER] "&Procedure!D2 -> [INCORPORER] Tiedir le lait, ajouter la levure
A6: 2. | B6: ="[INCORPORER] "&Procedure!D3 -> [INCORPORER] Ajouter la farine de gruau, sucre, oeufs, zeste de citron, sel
A7: 3. | B7: ="[INCORPORER] "&Procedure!D4 -> [INCORPORER] A la fin ajouter le beurre noisette
A8: 4. | B8: ="[PÉTRIR] "&Procedure!D5 -> [PÉTRIR] Petrir a la feuille du melangeur
A9: 5. | B9: ="[DRESSER] "&Procedure!D6 -> [DRESSER] Dresser a la poche, douille N.7, en moule beurre
A10: 6. | B10: ="[ÉTUVER] "&Procedure!D7 -> [ÉTUVER] Pousser a l'etuve 30C, cuire sur plaque chaude 180C, demouler a chaud
A11: 7. | B11: =Procedure!D8 -> Donne environ 60 pieces de 40gr
A13: CUIS.web — Portage du CUIS Clipper de 1992 par Palika & Bernard Vandendaele (créateur du moteur récursif d'origine)
