Workbook

Sheet Besoins
A1: Besoins matière
A2: Multiplicateur souhaité | B2: 1
A3: Quantité de référence | B3: 1920 | C3: gr
A4: Quantité obtenue | B4: =$B$2*B3 -> 1920 | C4: =C3 -> gr
A6: Code | B6: Matière première | C6: Classe | D6: Base (×1, modifiable) | E6: Quantité | F6: Unité | G6: Coût
A7: 00000139 | B7: FARINE (000) | C7: Eléments divers | D7: 1 | E7: =D7*$B$2 -> 1 | F7: kg | G7: =E7*0.489836 -> 0.489836
A8: 00000048 | B8: BEURRE | C8: Produits frais | D8: 0.15 | E8: =D8*$B$2 -> 0.15 | F8: kg | G8: =E8*3.9514 -> 0.59271
A9: 00000047 | B9: OEUF A3 (PRIX) | C9: Produits laitiers | D9: 3 | E9: =D9*$B$2 -> 3 | F9: pc | G9: =E9*0.27 -> 0.81
A10: 00000061 | B10: EAU | C10: Matières diverses (à trier) | D10: 0.05 | E10: =D10*$B$2 -> 0.05 | F10: lt | G10: =E10*0.003 -> 0.00015
A11: 00000033 | B11: SEL | C11: Matières diverses (à trier) | D11: 0.02 | E11: =D11*$B$2 -> 0.02 | F11: kg | G11: =E11*0.186416 -> 0.003728
A12: LAIT-ENT-POW | B12: Lait entier en poudre 26% MG | C12: Laits et laits en poudre | D12: 0.08 | E12: =D12*$B$2 -> 0.08 | F12: kg | G12: =E12*5.2 -> 0.416
A13: 00000051 | B13: LAIT | C13: Produits laitiers | D13: 0.5 | E13: =D13*$B$2 -> 0.5 | F13: lt | G13: =E13*0.5999 -> 0.29995
A14: RNM26560123 | B14: POMME DE TERRE basique div.var.cons France lavée cat.I 40-70mm sac 10kg | C14: Légumes | D14: 0.4 | E14: =D14*$B$2 -> 0.4 | F14: kg | G14: =E14*0.35 -> 0.14
A15: LEV-FRAICHE | B15: Levure fraîche de boulanger | C15: Levures et agents levants | D15: 0.05 | E15: =D15*$B$2 -> 0.05 | F15: kg | G15: =E15*2.2 -> 0.11
A16: SUC-BLANC | B16: Sucre blanc cristal sac 25 kg | C16: Sucres et édulcorants | D16: 0.02 | E16: =D16*$B$2 -> 0.02 | F16: kg | G16: =E16*0.82 -> 0.0164
F17: Total | G17: =SUM(G7:G16) -> 0

Sheet Procedure
A1: Recette | B1: # | C1: Verbe | D1: Étape | E1: Précision technique | F1: Durée
A2: Brioche Garnie pour Buffet (Wittamer) | B2: 1 | C2: DISSOUDRE | D2: Delayer ensemble levure et eau temperee
A3: Brioche Garnie pour Buffet (Wittamer) | B3: 2 | C3: DISSOUDRE | D3: Delayer ensemble sel, sucre, oeufs, extrait feculant, poudre de lait
A4: Brioche Garnie pour Buffet (Wittamer) | B4: 3 | C4: METTRE | D4: Mettre le tout dans une cuve contenant la farine, petrir jusqu'a decollement
A5: Brioche Garnie pour Buffet (Wittamer) | B5: 4 | C5: REPOSER | D5: Laisser reposer 1h
A6: Brioche Garnie pour Buffet (Wittamer) | B6: 5 | C6: COUPER | D6: Couper des patons grande piece (900gr) ou petite piece (600gr)
A7: Féculant (purée de pommes de terre) | B7: 1 | C7: METTRE | D7: Mettre en purée 4kg de pommes de terre
A8: Féculant (purée de pommes de terre) | B8: 2 | C8: INCORPORER | D8: Ajouter 500ml d'eau
A9: Féculant (purée de pommes de terre) | B9: 3 | C9: PASSER | D9: Passer au tamis fin

Sheet Arborescence FT
A1: Niveau | B1: Composant | C1: Type | D1: Quantité (× multiplicateur, voir feuille Besoins) | E1: Unité
A2: 0 | B2: Brioche Garnie pour Buffet (Wittamer) | C2: recette | D2: ='Besoins'!$B$2*1920 -> 1920 | E2: gr
A3: 1 | B3: ↳ Levure fraîche de boulanger | C3: matiere | D3: ='Besoins'!$B$2*0.05 -> 0.05 | E3: kg
A4: 1 | B4: ↳ LAIT | C4: matiere | D4: ='Besoins'!$B$2*0.5 -> 0.5 | E4: lt
A5: 1 | B5: ↳ SEL | C5: matiere | D5: ='Besoins'!$B$2*0.02 -> 0.02 | E5: kg
A6: 1 | B6: ↳ Sucre blanc cristal sac 25 kg | C6: matiere | D6: ='Besoins'!$B$2*0.02 -> 0.02 | E6: kg
A7: 1 | B7: ↳ OEUF (P) (conv.) | C7: conversion | D7: ='Besoins'!$B$2*3 -> 3 | E7: pc
A8: 1 | B8: ↳ Féculant (purée de pommes de terre) | C8: recette | D8: ='Besoins'!$B$2*0.1 -> 0.1 | E8: kg
A9: 2 | B9: ↳ POMME DE TERRE basique div.var.cons France lavée cat.I 40-70mm sac 10kg | C9: matiere | D9: ='Besoins'!$B$2*0.4 -> 0.4 | E9: kg
A10: 2 | B10: ↳ EAU | C10: matiere | D10: ='Besoins'!$B$2*0.05 -> 0.05 | E10: lt
A11: 1 | B11: ↳ Lait entier en poudre 26% MG | C11: matiere | D11: ='Besoins'!$B$2*0.08 -> 0.08 | E11: kg
A12: 1 | B12: ↳ FARINE (000) | C12: matiere | D12: ='Besoins'!$B$2*1 -> 1 | E12: kg
A13: 1 | B13: ↳ BEURRE | C13: matiere | D13: ='Besoins'!$B$2*0.15 -> 0.15 | E13: kg

Sheet Carte imprimable
A1: Fiche technique — Brioche Garnie pour Buffet (Wittamer)
A2: ="C85.PATE.BRIOGA · PAT.PATES.POUSSEES · référence : "&Besoins!B3&" "&Besoins!C3&" · multiplicateur réglable sur la feuille ""Besoins""" -> C85.PATE.BRIOGA · PAT.PATES.POUSSEES · référence : 1 920 gr · multiplicateur réglable sur la feuille
A4: Brioche Garnie pour Buffet (Wittamer) C85.PATE.BRIOGA
A5: 1. | B5: ="[DISSOUDRE] "&Procedure!D2 -> [DISSOUDRE] Delayer ensemble levure et eau temperee
A6: 2. | B6: ="[DISSOUDRE] "&Procedure!D3 -> [DISSOUDRE] Delayer ensemble sel, sucre, oeufs, extrait feculant, poudre de lait
A7: 3. | B7: ="[METTRE] "&Procedure!D4 -> [METTRE] Mettre le tout dans une cuve contenant la farine, petrir jusqu'a decollement
A8: 4. | B8: ="[REPOSER] "&Procedure!D5 -> [REPOSER] Laisser reposer 1h
A9: 5. | B9: ="[COUPER] "&Procedure!D6 -> [COUPER] Couper des patons grande piece (900gr) ou petite piece (600gr)
A11: ↳ Féculant (purée de pommes de terre) C85.EXT.FECULAN
A12: 1. | B12: ="[METTRE] "&Procedure!D7 -> [METTRE] Mettre en purée 4kg de pommes de terre
A13: 2. | B13: ="[INCORPORER] "&Procedure!D8 -> [INCORPORER] Ajouter 500ml d'eau
A14: 3. | B14: ="[PASSER] "&Procedure!D9 -> [PASSER] Passer au tamis fin
A16: CUIS.web — Portage du CUIS Clipper de 1992 par Palika & Bernard Vandendaele (créateur du moteur récursif d'origine)
