Workbook

Sheet Besoins
A1: Besoins matière
A2: Multiplicateur souhaité | B2: 1
A3: Quantité de référence | B3: 450 | C3: pc
A4: Quantité obtenue | B4: =$B$2*B3 -> 450 | C4: =C3 -> pc
A6: Code | B6: Matière première | C6: Classe | D6: Base (×1, modifiable) | E6: Quantité | F6: Unité | G6: Coût
A7: 00000002 | B7: FARINE (FLEUR DE FROMENT) | C7: Eléments divers | D7: 93.264249 | E7: =D7*$B$2 -> 93.264249 | F7: kg | G7: =E7*0.0220639999 -> 2.057782
A8: 00000007 | B8: mazena | C8: Farine et féculent | D8: 0.14 | E8: =D8*$B$2 -> 0.14 | F8: kg | G8: =E8*0.7833 -> 0.109662
A9: 00000048 | B9: BEURRE | C9: Produits frais | D9: 69.948187 | E9: =D9*$B$2 -> 69.948187 | F9: kg | G9: =E9*3.9513999734 -> 276.39326
A10: 00000047 | B10: OEUF A3 (PRIX) | C10: Produits laitiers | D10: 2341.6062 | E10: =D10*$B$2 -> 2341.6062 | F10: pc | G10: =E10*0.27 -> 632.23368
A11: 00000061 | B11: EAU | C11: Matières diverses (à trier) | D11: 151.76155 | E11: =D11*$B$2 -> 151.76155 | F11: lt | G11: =E11*0.003 -> 0.455285
A12: 00000033 | B12: SEL | C12: Matières diverses (à trier) | D12: 2.331606 | E12: =D12*$B$2 -> 2.331606 | F12: kg | G12: =E12*0.1864160174 -> 0.434649
A13: 00000051 | B13: LAIT | C13: Produits laitiers | D13: 2 | E13: =D13*$B$2 -> 2 | F13: lt | G13: =E13*0.5999 -> 1.1998
A14: 00000032 | B14: MIEL LIQUIDE (MELI) | C14: Sucres Mat. prem. | D14: 0.414286 | E14: =D14*$B$2 -> 0.414286 | F14: kg | G14: =E14*4.0405972134 -> 1.673963
A15: 00000003 | B15: SUCRE (S2) | C15: Sucres Mat. prem. | D15: 5.991784 | E15: =D15*$B$2 -> 5.991784 | F15: kg | G15: =E15*0.9499999784 -> 5.692195
F16: Total | G16: =SUM(G7:G15) -> 0

Sheet Procedure
A1: Recette | B1: # | C1: Verbe | D1: Étape | E1: Précision technique | F1: Durée
A2: PETITS FOURS (PÂTE À CHOUX) | D2: 📜 Recette historique (Base Clipper DOS, 1992) — premiers pas de Palika en gestion informatique des recettes, largement inspirés de son cahier manuscrit personnel de 1985. À cette époque, la procédure n'était pas rédigée séparément : l'ORDRE des ingrédients dans la composition ci-dessous faisait office de déroulé de fabrication. Le cahier de 1985 original (en cours de numérisation) contient les procédures complètes, rédigées dans le style des fiches techniques actuelles.
A3: BOUCHÉE EN PÂTE À CHOUX (VIDE) | D3: 📜 Recette historique (Base Clipper DOS, 1992) — premiers pas de Palika en gestion informatique des recettes, largement inspirés de son cahier manuscrit personnel de 1985. À cette époque, la procédure n'était pas rédigée séparément : l'ORDRE des ingrédients dans la composition ci-dessous faisait office de déroulé de fabrication. Le cahier de 1985 original (en cours de numérisation) contient les procédures complètes, rédigées dans le style des fiches techniques actuelles.
A4: PÂTE À CHOUX (B) | B4: 1 | C4: TAMISER | D4: farine T55 avant toutes étapes | E4: sur un papier silicone ou mettre dans un bol qui permettra de verser à l'étapes 3
A5: PÂTE À CHOUX (B) | B5: 2 | C5: BOUILLIR | D5: Si bassine du bateur inox direct sur feu vif avec la feuille ou spatule | E5: Porter à ébullition complète
A6: PÂTE À CHOUX (B) | B6: 3 | C6: MÉLANGER | D6: La farine dans le liquide | E6: Au fouet — hors du feu
A7: PÂTE À CHOUX (B) | B7: 4 | C7: DESSÉCHER | D7: La panade à la spatule | E7: Feu vif — jusqu'à décollement complet des parois ~2mn
A8: PÂTE À CHOUX (B) | B8: 5 | C8: INCORPORER | D8: Les œufs entiers un à un | E8: En un coup ou progressivement — jusqu'à homogénéisation complète
A9: PÂTE À CHOUX (B) | B9: 6 | C9: MÉLANGER | D9: Mélanger jusqu'au lissage complet et homogénéisations de la pâte , mettre de coté avec un linge humide jusqu'au dressage
A10: CRÈME PATISSIÈRE 1 | D10: 📜 Recette historique (Base Clipper DOS, 1992) — premiers pas de Palika en gestion informatique des recettes, largement inspirés de son cahier manuscrit personnel de 1985. À cette époque, la procédure n'était pas rédigée séparément : l'ORDRE des ingrédients dans la composition ci-dessous faisait office de déroulé de fabrication. Le cahier de 1985 original (en cours de numérisation) contient les procédures complètes, rédigées dans le style des fiches techniques actuelles.

Sheet Arborescence FT
A1: Niveau | B1: Composant | C1: Type | D1: Quantité (× multiplicateur, voir feuille Besoins) | E1: Unité
A2: 0 | B2: PETITS FOURS (PÂTE À CHOUX) | C2: recette | D2: ='Besoins'!$B$2*450 -> 450 | E2: pc
A3: 1 | B3: ↳ BOUCHÉE EN PÂTE À CHOUX (VIDE) | C3: recette | D3: ='Besoins'!$B$2*450 -> 450 | E3: pc
A4: 2 | B4: ↳ PÂTE À CHOUX (B) | C4: recette | D4: ='Besoins'!$B$2*450 -> 450 | E4: kg
A5: 3 | B5: ↳ EAU | C5: matiere | D5: ='Besoins'!$B$2*151.5544041451 -> 151.5544 | E5: lt
A6: 3 | B6: ↳ SEL | C6: matiere | D6: ='Besoins'!$B$2*2.3316062176 -> 2.331606 | E6: kg
A7: 3 | B7: ↳ SUCRE (S2) | C7: matiere | D7: ='Besoins'!$B$2*4.6632124352 -> 4.663212 | E7: kg
A8: 3 | B8: ↳ BEURRE | C8: matiere | D8: ='Besoins'!$B$2*69.9481865285 -> 69.948187 | E8: kg
A9: 3 | B9: ↳ FARINE (FLEUR DE FROMENT) | C9: matiere | D9: ='Besoins'!$B$2*93.2642487047 -> 93.264249 | E9: kg
A10: 3 | B10: ↳ OEUF (P) (conv.) | C10: conversion | D10: ='Besoins'!$B$2*2331.6062176166 -> 2331.6062 | E10: pc
A11: 1 | B11: ↳ CRÈME PATISSIÈRE 1 | C11: recette | D11: ='Besoins'!$B$2*3 -> 3 | E11: kg
A12: 2 | B12: ↳ LAIT | C12: matiere | D12: ='Besoins'!$B$2*2 -> 2 | E12: lt
A13: 2 | B13: ↳ SUCRE (S2) | C13: matiere | D13: ='Besoins'!$B$2*0.5 -> 0.5 | E13: kg
A14: 2 | B14: ↳ JAUNE D'OEUF (P) (conv.) | C14: conversion | D14: ='Besoins'!$B$2*20 -> 20 | E14: pc
A15: 2 | B15: ↳ mazena | C15: matiere | D15: ='Besoins'!$B$2*0.14 -> 0.14 | E15: kg
A16: 1 | B16: ↳ FONDANT (conv.) | C16: conversion | D16: ='Besoins'!$B$2*1.45 -> 1.45 | E16: kg

Sheet Carte imprimable
A1: Fiche technique — PETITS FOURS (PÂTE À CHOUX)
A2: ="00000153 · PAT.PETITS_FOURS · référence : "&Besoins!B3&" "&Besoins!C3&" · multiplicateur réglable sur la feuille ""Besoins""" -> 00000153 · PAT.PETITS_FOURS · référence : 450 pc · multiplicateur réglable sur la feuille
A4: PETITS FOURS (PÂTE À CHOUX) 00000153
B5: 📜 Recette historique (Base Clipper DOS, 1992) — premiers pas de Palika en gestion informatique des recettes, largement inspirés de son cahier manuscrit personnel de 1985. À cette époque, la procédure n'était pas rédigée séparément : l'ORDRE des ingrédients dans la composition ci-dessous faisait office de déroulé de fabrication. Le cahier de 1985 original (en cours de numérisation) contient les procédures complètes, rédigées dans le style des fiches techniques actuelles.
A7: ↳ BOUCHÉE EN PÂTE À CHOUX (VIDE) 00000804
B8: 📜 Recette historique (Base Clipper DOS, 1992) — premiers pas de Palika en gestion informatique des recettes, largement inspirés de son cahier manuscrit personnel de 1985. À cette époque, la procédure n'était pas rédigée séparément : l'ORDRE des ingrédients dans la composition ci-dessous faisait office de déroulé de fabrication. Le cahier de 1985 original (en cours de numérisation) contient les procédures complètes, rédigées dans le style des fiches techniques actuelles.
A10: ↳ PÂTE À CHOUX (B) 00000343
A11: 1. | B11: ="[TAMISER] "&Procedure!D4 -> [TAMISER] farine T55 avant toutes étapes
B12: =Besoins!B7 -> FARINE (FLEUR DE FROMENT) | C12: =Besoins!E7 -> 93.264249 | D12: =Besoins!F7 -> kg
B13: ="ℹ "&Procedure!E4 -> ℹ
A14: 2. | B14: ="[BOUILLIR] "&Procedure!D5 -> [BOUILLIR] Si bassine du bateur inox direct sur feu vif avec la feuille ou spatule
B15: =Besoins!B11 -> EAU | C15: =Besoins!E11 -> 151.5544 | D15: =Besoins!F11 -> lt
B16: =Besoins!B12 -> SEL | C16: =Besoins!E12 -> 2.331606 | D16: =Besoins!F12 -> kg
B17: SUCRE (S2) | C17: ='Besoins'!$B$2*4.6632124352 -> 4.663212 | D17: kg
B18: =Besoins!B9 -> BEURRE | C18: =Besoins!E9 -> 69.948187 | D18: =Besoins!F9 -> kg
B19: ="ℹ "&Procedure!E5 -> ℹ
A20: 3. | B20: ="[MÉLANGER] "&Procedure!D6 -> [MÉLANGER] La farine dans le liquide
B21: ="ℹ "&Procedure!E6 -> ℹ
A22: 4. | B22: ="[DESSÉCHER] "&Procedure!D7 -> [DESSÉCHER] La panade à la spatule
B23: ="ℹ "&Procedure!E7 -> ℹ
A24: 5. | B24: ="[INCORPORER] "&Procedure!D8 -> [INCORPORER] Les œufs entiers un à un
B25: OEUF (P) (conv.) | C25: ='Besoins'!$B$2*2331.6062176166 -> 2331.6062 | D25: pc
B26: ="ℹ "&Procedure!E8 -> ℹ
A27: 6. | B27: ="[MÉLANGER] "&Procedure!D9 -> [MÉLANGER] Mélanger jusqu'au lissage complet et homogénéisations de la pâte , mettre de coté avec un linge humide jusqu'au dressage
A29: ↳ CRÈME PATISSIÈRE 1 00000145
B30: 📜 Recette historique (Base Clipper DOS, 1992) — premiers pas de Palika en gestion informatique des recettes, largement inspirés de son cahier manuscrit personnel de 1985. À cette époque, la procédure n'était pas rédigée séparément : l'ORDRE des ingrédients dans la composition ci-dessous faisait office de déroulé de fabrication. Le cahier de 1985 original (en cours de numérisation) contient les procédures complètes, rédigées dans le style des fiches techniques actuelles.
A32: CUIS.web — Portage du CUIS Clipper de 1992 par Palika & Bernard Vandendaele (créateur du moteur récursif d'origine)
